BEGIN:VCALENDAR
VERSION:2.0
PRODID:-//ChamberMaster//Event Calendar 2.0//EN
METHOD:PUBLISH
X-PUBLISHED-TTL:P3D
REFRESH-INTERVAL:P3D
CALSCALE:GREGORIAN
BEGIN:VEVENT
DTSTART:20180901T190000Z
DTEND:20180901T210000Z
X-MICROSOFT-CDO-ALLDAYEVENT:FALSE
SUMMARY:Pirate Game Day Tailgate - ECU vs. North Carolina A&T
DESCRIPTION:Kick off the ECU football season with us!\nJoin alumni and fans for tailgating fun before the ECU vs. North Carolina A&T football game. Enjoy a variety of food from local restaurants\, Pirate beverages\, live music and entertainment\, door prizes and more. Our tailgates often get visits from the ECU Cheerleaders and PeeDee. Back by popular demand\, this tailgate will feature a craft brewery and one of their beers! Get ready to cheer the Pirates to victory.\n\nTailgate Ticket Information\n\nPrice includes food\, beverages and entertainment. Tickets are available on a first-come\, first served basis. Some tailgates do sell out quickly\, so plan to register in advance. Tickets are sold at the door only if space is available. Ticket price includes all applicable taxes. \n\n\n\nSingle Game Tickets\n\nTickets can be purchased online or at the door if space is available.\n\nAdults (11 & up): $20/per person\n\nChild (3-10): $5/per person\n\nYoung Child (2 & under): FREE\nSeason Package\n\nGet one tailgate free! All seven (7) tailgates for the price of six (6). \n\nAdults (11 & up): $120/per person\n\nChild (3-10): $35/per person
X-ALT-DESC;FMTTYPE=text/html:<h2><strong>Kick off the ECU football season with us!</strong></h2>\nJoin alumni and fans for tailgating fun before the&nbsp\;<strong><a href="https://ecupirates.com/schedule.aspx?path=football" style="box-sizing: border-box\; background-color: transparent\; color: rgb(72\, 42\, 127)\; text-decoration-line: none\; outline: none\; transition: all 0.3s ease\;" target="_blank" title="">ECU vs. North Carolina A&amp\;T</a>&nbsp\;</strong>football game. Enjoy a variety of food from local restaurants\, Pirate beverages\, live music and entertainment\, door prizes and more. Our tailgates often get visits from the ECU Cheerleaders and PeeDee. Back by popular demand\, this tailgate will feature a craft brewery and one of their beers!&nbsp\;Get ready to cheer the Pirates to victory.\n\n<h2><strong>Tailgate Ticket Information</strong></h2>\n\n<p>Price includes food\, beverages and entertainment. Tickets are available on a first-come\, first served basis. Some tailgates do sell out quickly\, so plan to register in advance. Tickets are sold at the door only if space is available.&nbsp\;<em>Ticket price includes&nbsp\;all applicable taxes.&nbsp\;<br />\n<br />\n<strong>Single Game Tickets</strong><br />\nTickets can be purchased online or at the door if space is available.<br />\nAdults (11 &amp\; up): <strong>$20/</strong>per person<br />\nChild (3-10): <strong>$5</strong>/per person<br />\nYoung Child (2 &amp\; under): <strong>FREE</strong></em></p>\n<em><strong>Season Package</strong><br />\nGet one tailgate free! All seven (7) tailgates for the price of six (6).&nbsp\;<br />\nAdults (11 &amp\; up): <strong>$120</strong>/per person<br />\nChild (3-10): <strong>$35</strong>/per person</em>
LOCATION:Our Pirate Game Day Tailgate is located at ECU's Johnson Stadium\, adjacent to Clark-LeClair Stadium. Enter through Gate 1 of Johnson Stadium. Johnson Stadium 9999 Charles Blvd Greenville\, NC 27858
UID:e.840.8892
SEQUENCE:3
DTSTAMP:20260421T031642Z
URL:https://business.greenvillenc.org/events/details/pirate-game-day-tailgate-ecu-vs-north-carolina-a-t-8892
END:VEVENT

END:VCALENDAR
