BEGIN:VCALENDAR
VERSION:2.0
PRODID:-//ChamberMaster//Event Calendar 2.0//EN
METHOD:PUBLISH
X-PUBLISHED-TTL:P3D
REFRESH-INTERVAL:P3D
CALSCALE:GREGORIAN
BEGIN:VEVENT
DTSTART:20180908T163000Z
DTEND:20180908T183000Z
X-MICROSOFT-CDO-ALLDAYEVENT:FALSE
SUMMARY:Pirate Game Day Tailgate - ECU vs. North Carolina
DESCRIPTION:Paint it Purple and Tailgate with Pirate Nation\nJoin fellow alumni and fans for tailgating fun before the ECU vs. North Carolina football game. Enjoy a variety of food from local restaurants\, Pirate beverages\, live music and entertainment\, door prizes and more. Our tailgates often get visits from the ECU Cheerleaders and PeeDee. Back by popular demand\, this tailgate will feature a craft brewery and one of their beers! Get ready to cheer the Pirates to victory and don't forget to PAINT IT PURPLE!\n\n \nTailgate Ticket Information\n\nPrice includes food\, beverages and entertainment. Tickets are available on a first-come\, first served basis. Some tailgates do sell out quickly\, so plan to register in advance. Tickets are sold at the door only if space is available. Ticket price includes all applicable taxes. \n\n\n\nSingle Game Tickets\n\nTickets can be purchased online or at the door if space is available.\n\nAdults (11 & up): $20/per person\n\nChild (3-10): $5/per person\n\nYoung Child (2 & under): FREE\nSeason Package\n\nGet one tailgate free! All seven (7) tailgates for the price of six (6). \n\nAdults (11 & up): $120/per person\n\nChild (3-10): $35/per person
X-ALT-DESC;FMTTYPE=text/html:<h2><span style="color:#4B0082"><strong>Paint it Purple&nbsp\;and Tailgate with Pirate Nation</strong></span></h2>\nJoin fellow alumni and fans for tailgating fun before the&nbsp\;<strong><a href="https://ecupirates.com/schedule.aspx?path=football" style="box-sizing: border-box\; background-color: transparent\; color: rgb(72\, 42\, 127)\; text-decoration-line: none\; outline: none\; transition: all 0.3s ease\;" target="_blank" title="">ECU vs. North Carolina</a>&nbsp\;</strong>football game. Enjoy a variety of food from local restaurants\, Pirate beverages\, live music and entertainment\, door prizes and more. Our tailgates often get visits from the ECU Cheerleaders and PeeDee. Back by popular demand\, this tailgate will feature a craft brewery and one of their beers!&nbsp\;Get ready to cheer the Pirates to victory and don&#39\;t forget to<span style="color:#4B0082">&nbsp\;<strong>PAINT IT PURPLE!</strong></span><br />\n&nbsp\;\n<h2><strong>Tailgate Ticket Information</strong></h2>\n\n<p>Price includes food\, beverages and entertainment. Tickets are available on a first-come\, first served basis. Some tailgates do sell out quickly\, so plan to register in advance. Tickets are sold at the door only if space is available.&nbsp\;<em>Ticket price includes&nbsp\;all applicable taxes.&nbsp\;<br />\n<br />\n<strong>Single Game Tickets</strong><br />\nTickets can be purchased online or at the door if space is available.<br />\nAdults (11 &amp\; up):&nbsp\;<strong>$20/</strong>per person<br />\nChild (3-10):&nbsp\;<strong>$5</strong>/per person<br />\nYoung Child (2 &amp\; under):&nbsp\;<strong>FREE</strong></em></p>\n<em><strong>Season Package</strong><br />\nGet one tailgate free! All seven (7) tailgates for the price of six (6).&nbsp\;<br />\nAdults (11 &amp\; up):&nbsp\;<strong>$120</strong>/per person<br />\nChild (3-10):&nbsp\;<strong>$35</strong>/per person</em>
LOCATION:Johnson Stadium 9999 Charles Blvd Greenville\, NC 27858
UID:e.840.8893
SEQUENCE:3
DTSTAMP:20260421T031533Z
URL:https://business.greenvillenc.org/events/details/pirate-game-day-tailgate-ecu-vs-north-carolina-8893
END:VEVENT

END:VCALENDAR
