BEGIN:VCALENDAR
VERSION:2.0
PRODID:-//ChamberMaster//Event Calendar 2.0//EN
METHOD:PUBLISH
X-PUBLISHED-TTL:P3D
REFRESH-INTERVAL:P3D
CALSCALE:GREGORIAN
BEGIN:VEVENT
DTSTART:20191003T210000Z
DTEND:20191003T230000Z
X-MICROSOFT-CDO-ALLDAYEVENT:FALSE
SUMMARY:Pirate Game Day Tailgate - ECU vs. Gardner-Webb
DESCRIPTION:Paint it Purple and Tailgate with Pirate Nation\nJoin fellow alumni and fans for tailgating fun before the ECU vs. Temple football game. Enjoy a variety of food from local restaurants\, Pirate beverages\, live music and entertainment\, door prizes and more. Our tailgates often get visits from the ECU Cheerleaders and PeeDee. Back by popular demand\, this tailgate will feature a craft brewery and one of their beers! Get ready to cheer the Pirates to victory!\n\n \nTailgate Ticket Information\n\nPrice includes food\, beverages and entertainment. Tickets are available on a first-come\, first served basis. Some tailgates do sell out quickly\, so plan to register in advance. Tickets are sold at the door only if space is available. Ticket price includes all applicable taxes. \n\n \n\nSINGLE GAME TICKETS\nTickets can be purchased online or over the phone\, if space is available. \n\nAdults (11 & up):   $20/pp\n\nChildren (3-10):      $5/pp\n\nYoung Children (2 & under): FREE\n\nSEASON PACKAGE\nAdults get one tailgate free! All six (6) tailgates for the price of five (5).\n\nAdults (11 & up):  $100/pp\n\nChildren (3-10):    $30/pp\n\nYoung Children (2 & under):   FREE\n\nDAY OF TICKETS (DOOR PRICE)\n\nTickets can be purchased at the door\, if space is available. \nAdults (11 & up): $25/pp\n\nChildren (3-10):  $10/pp\n\nYoung Children (2 & under):   FREE
X-ALT-DESC;FMTTYPE=text/html:<h2><span style="color:#4B0082"><strong>Paint it Purple&nbsp\;and Tailgate with Pirate Nation</strong></span></h2>\nJoin fellow alumni and fans for tailgating fun before the&nbsp\;<strong><a href="https://ecupirates.com/schedule.aspx?path=football" style="box-sizing: border-box\; background-color: transparent\; color: rgb(72\, 42\, 127)\; text-decoration-line: none\; outline: none\; transition: all 0.3s ease\;" target="_blank" title=""><font color="#482a7f" style="box-sizing: border-box\; background-color: transparent\; color: rgb(72\, 42\, 127)\; text-decoration-line: none\; outline: none\; transition: all 0.3s ease 0s\;"><span style="box-sizing:border-box\; outline-color:initial\; outline-width:initial\; transition-duration:0.3s\; transition-property:all">ECU vs</span></font><span style="background-color:transparent\; box-sizing:border-box\; color:rgb(75\, 0\, 130)\; outline:none\; text-decoration-line:none\; transition:all 0.3s ease 0s">. </span></a><span style="color:#4B0082">Temple</span>&nbsp\;</strong>football game. Enjoy a variety of food from local restaurants\, Pirate beverages\, live music and entertainment\, door prizes and more. Our tailgates often get visits from the ECU Cheerleaders and PeeDee. Back by popular demand\, this tailgate will feature a craft brewery and one of their beers!&nbsp\;Get ready to cheer the Pirates to victory!<br />\n&nbsp\;\n<h2><strong>Tailgate Ticket Information</strong></h2>\n\n<p>Price includes food\, beverages and entertainment. Tickets are available on a first-come\, first served basis. Some tailgates do sell out quickly\, so plan to register in advance. Tickets are sold at the door only if space is available.&nbsp\;<em>Ticket price includes&nbsp\;all applicable taxes.&nbsp\;</em><br />\n&nbsp\;</p>\n\n<h4><strong><span style="color:black"><span style="font-family:helvetica\,sans-serif">SINGLE GAME TICKETS</span></span></strong></h4>\n<em><span style="color:black"><span style="font-family:helvetica\,sans-serif">Tickets can be purchased online or over the phone\, if space is available.&nbsp\;</span></span></em><br />\n<strong><span style="color:black"><span style="font-family:helvetica\,sans-serif">Adults&nbsp\;</span></span></strong><span style="color:black"><span style="font-family:helvetica\,sans-serif">(11 &amp\; up):&nbsp\; &nbsp\;$20/pp<br />\n<strong><span style="font-family:helvetica\,sans-serif">Children</span></strong>&nbsp\;(3-10):&nbsp\; &nbsp\; &nbsp\; $5/pp<br />\n<strong><span style="font-family:helvetica\,sans-serif">Young Children</span></strong>&nbsp\;(2 &amp\; under): FREE</span></span>\n\n<h4><strong><span style="color:black"><span style="font-family:helvetica\,sans-serif">SEASON PACKAGE</span></span></strong></h4>\n<em><span style="color:black"><span style="font-family:helvetica\,sans-serif">Adults get one tailgate free! All six (6) tailgates for the price of five (5).</span></span></em><br />\n<strong><span style="color:black"><span style="font-family:helvetica\,sans-serif">Adults&nbsp\;</span></span></strong><span style="color:black"><span style="font-family:helvetica\,sans-serif">(11 &amp\; up):&nbsp\; $100/pp<br />\n<strong><span style="font-family:helvetica\,sans-serif">Children</span></strong>&nbsp\;(3-10):&nbsp\; &nbsp\; $30/pp<br />\n<strong><span style="font-family:helvetica\,sans-serif">Young Children&nbsp\;</span></strong>(2 &amp\; under):&nbsp\; &nbsp\;FREE</span></span>\n\n<h4><strong><span style="color:black"><span style="font-family:helvetica\,sans-serif">DAY OF TICKETS (DOOR PRICE)</span></span></strong></h4>\n\n<h3><em><strong><span style="color:black"><span style="font-family:helvetica\,sans-serif">Tickets can be purchased at the door\, if space is available.&nbsp\;</span></span></strong></em></h3>\n<em><strong><span style="color:black"><span style="font-family:helvetica\,sans-serif">Adults&nbsp\;</span></span></strong><span style="color:black"><span style="font-family:helvetica\,sans-serif">(11 &amp\; up): $25/pp<br />\n<strong><span style="font-family:helvetica\,sans-serif">Children</span></strong>&nbsp\;(3-10):&nbsp\; $10/pp<br />\n<strong><span style="font-family:helvetica\,sans-serif">Young Children</span></strong>&nbsp\;(2 &amp\; under):&nbsp\; &nbsp\;FREE</span></span></em>
LOCATION:Johnson Stadium 9999 Charles Blvd Greenville\, NC 27858
UID:e.840.10346
SEQUENCE:3
DTSTAMP:20260420T092748Z
URL:https://business.greenvillenc.org/events/details/pirate-game-day-tailgate-ecu-vs-gardner-webb-10-03-2019-10346
END:VEVENT

END:VCALENDAR
