BEGIN:VCALENDAR
VERSION:2.0
PRODID:-//ChamberMaster//Event Calendar 2.0//EN
METHOD:PUBLISH
X-PUBLISHED-TTL:P3D
REFRESH-INTERVAL:P3D
CALSCALE:GREGORIAN
BEGIN:VEVENT
DTSTART:20191026T120000Z
DTEND:20191026T140000Z
X-MICROSOFT-CDO-ALLDAYEVENT:FALSE
SUMMARY:Pirate Doughnut Party & Homecoming Parade Viewing
DESCRIPTION:Pirate Doughnut Party & Homecoming Parade Viewing\n\nCome watch the parade while enjoying Krispy Kreme Doughnuts with us!\nJoin us at the Taylor-Slaughter Alumni Center for a great seat to watch the Homecoming Parade go right by our front lawn! See Pee Dee\, the Marching Pirates\, the ECU Cheerleaders\, student organization floats\, the Homecoming Court\, 2019 Alumni Award recipients\, and more. Also enjoy various Pirate themed doughnuts provided by our sponsor Krispy Kreme.
X-ALT-DESC;FMTTYPE=text/html:<h1><strong>Pirate Doughnut Party &amp\; Homecoming Parade Viewing</strong></h1>\n\n<h2>Come watch the parade while enjoying Krispy Kreme Doughnuts with us!</h2>\n<span style="font-size:14px"><span style="color:rgb(0\, 0\, 0)\; font-family:droid sans\,helvetica\,arial\,sans-serif">Join us at the Taylor-Slaughter Alumni Center for a great seat to watch the Homecoming Parade go right by our front lawn! See Pee Dee\, the Marching Pirates\, the ECU Cheerleaders\, student organization floats\, the Homecoming Court\, 2019 Alumni Award recipients\, and more. Also enjoy various Pirate themed doughnuts provided by our sponsor Krispy Kreme.</span></span>
LOCATION:Taylor-Slaughter Alumni Center 901 East Fifth Street Greenville\, NC 27858
UID:e.840.10343
SEQUENCE:3
DTSTAMP:20260420T093112Z
URL:https://business.greenvillenc.org/events/details/pirate-doughnut-party-homecoming-parade-viewing-10-26-2019-10343
END:VEVENT

END:VCALENDAR
