BEGIN:VCALENDAR
VERSION:2.0
PRODID:-//ChamberMaster//Event Calendar 2.0//EN
METHOD:PUBLISH
X-PUBLISHED-TTL:P3D
REFRESH-INTERVAL:P3D
CALSCALE:GREGORIAN
BEGIN:VEVENT
DTSTART:20190413T120000Z
DTEND:20190413T140000Z
X-MICROSOFT-CDO-ALLDAYEVENT:FALSE
SUMMARY:Pirate Alumni Road Race and Fun Run
DESCRIPTION:Join us Saturday\, April 13\, 2019\, for the 12th Annual Pirate Alumni Road Race and Fun Run in Greenville\, NC. Hit the pavement and make your footprint count as alumni and friends race to raise funds for ECU scholarships. This family-friendly race will provide fun for the whole family. \n\n\n\nRace participants will receive an official racing bib\, electronic timing chip\, and a post race party with food and refreshments! Participants who purchase the premium package will receive a Pirate Alumni Road Race T-Shirt! Awards will be presented to the first three male finishers overall\, to the first three female finishers overall\, and to the top three male and female finishers in each age group. No awards will be presented to the fun run participants.\n\n\n\nNot a runner? Not a problem! You can register to Sleep in for Scholarships and receive a T-Shirt through the mail
X-ALT-DESC;FMTTYPE=text/html:<span style="color:#4B0082"><strong><em>Join us</em></strong>&nbsp\;<strong><em>Saturday\, April 13\, 2019</em></strong>\,</span> for the 12th Annual Pirate Alumni Road Race and Fun Run in Greenville\, NC. Hit the pavement and make your footprint count as alumni and friends race to raise funds for ECU scholarships. This family-friendly race will provide fun for the whole family.&nbsp\;<br />\n<br />\nRace participants will receive an official racing bib\, electronic timing chip\, and a post race party with food and refreshments! Participants who purchase the premium package will receive a Pirate Alumni Road Race T-Shirt! Awards will be presented to the first three male finishers overall\, to the first three female finishers overall\, and to the top three male and female finishers in each age group. No awards will be presented to the fun run participants.<br />\n<br />\n<a href="https://securelb.imodules.com/s/722/hybrid/index.aspx?sid=722&amp\;gid=1&amp\;pgid=2271&amp\;cid=7110" style="box-sizing: border-box\; background-color: transparent\; color: rgb(72\, 42\, 127)\; text-decoration-line: none\; outline: none\; transition: all 0.3s ease 0s\;" title="">Not a runner? Not a problem! You can register to Sleep in for Scholarships and receive a T-Shirt through the mail</a>
LOCATION:Location: Corner of 1st & Reade Street (Adjacent to Town Commons Playground) Greenville\, NC 27858
UID:e.840.9764
SEQUENCE:3
DTSTAMP:20260420T190034Z
URL:https://business.greenvillenc.org/events/details/pirate-alumni-road-race-and-fun-run-9764
END:VEVENT

END:VCALENDAR
