BEGIN:VCALENDAR
VERSION:2.0
PRODID:-//ChamberMaster//Event Calendar 2.0//EN
METHOD:PUBLISH
X-PUBLISHED-TTL:P3D
REFRESH-INTERVAL:P3D
CALSCALE:GREGORIAN
BEGIN:VEVENT
DTSTART:20170422T120000Z
DTEND:20170422T140000Z
X-MICROSOFT-CDO-ALLDAYEVENT:FALSE
SUMMARY:Pirate Alumni Road Race
DESCRIPTION:The East Carolina Alumni Association presents the tenth annual Pirate Alumni Road Race and Fun Run! Join fellow alumni and friends as we race to raise funds for ECU scholarships. Runners of all ages will enjoy the 5K road race or one-mile fun run.\n\nAbout Our Race: All proceeds from the Pirate Alumni Road Race and Fun Run benefit East Carolina Alumni Association scholarships. The alumni association annually awards scholarships to qualified undergraduates for the following academic year. To date\, the alumni association has awarded 252 scholarships totaling nearly $350\,000
X-ALT-DESC;FMTTYPE=text/html:The East Carolina Alumni Association presents the tenth annual Pirate Alumni Road Race and Fun Run! Join fellow alumni and friends as we race to raise funds for ECU scholarships. Runners of all ages will enjoy the 5K road race or one-mile fun run.<br />\nAbout Our Race: All proceeds from the Pirate Alumni Road Race and Fun Run benefit East Carolina Alumni Association scholarships. The alumni association annually awards scholarships to qualified undergraduates for the following academic year. To date\, the alumni association has awarded 252 scholarships totaling nearly $350\,000
LOCATION:Registration is a UBE in Uptown Greenville. The 5K race begins on Reade Circle adjacent to West End Dining Hall in uptown Greenville. It then turns east on Fifth Street and travels next to campus to just before Village Glen Apartments. Timing and chip scoring by Run the East.
UID:e.840.7800
SEQUENCE:3
DTSTAMP:20260423T181506Z
URL:https://business.greenvillenc.org/events/details/pirate-alumni-road-race-7800
END:VEVENT

END:VCALENDAR
