BEGIN:VCALENDAR
VERSION:2.0
PRODID:-//ChamberMaster//Event Calendar 2.0//EN
METHOD:PUBLISH
X-PUBLISHED-TTL:P3D
REFRESH-INTERVAL:P3D
CALSCALE:GREGORIAN
BEGIN:VEVENT
DTSTART:20180421T120000Z
DTEND:20180421T160000Z
X-MICROSOFT-CDO-ALLDAYEVENT:FALSE
SUMMARY:Pirate Alumni Road Race
DESCRIPTION:11th Annual Pirate Alumni Road Race\n\nPresented by the ECU Alumni Association\n\nRegistration Opens January 2018
X-ALT-DESC;FMTTYPE=text/html:<div style="text-align: center\;"><strong>11th Annual Pirate Alumni Road Race</strong><br />\nPresented by the ECU Alumni Association</div>\n\n<div style="text-align: center\;">Registration Opens January 2018</div>\n
LOCATION:East Carolina University 901 E. Fifth Street Greenville\, NC 27858
UID:e.840.8676
SEQUENCE:3
DTSTAMP:20260421T101634Z
URL:https://business.greenvillenc.org/events/details/pirate-alumni-road-race-04-21-2018-8676
END:VEVENT

END:VCALENDAR
