BEGIN:VCALENDAR
VERSION:2.0
PRODID:-//ChamberMaster//Event Calendar 2.0//EN
METHOD:PUBLISH
X-PUBLISHED-TTL:P3D
REFRESH-INTERVAL:P3D
CALSCALE:GREGORIAN
BEGIN:VEVENT
DTSTART:20150227T233000Z
DTEND:20150228T020000Z
X-MICROSOFT-CDO-ALLDAYEVENT:FALSE
SUMMARY:PIANO MUSIC/ Reese Roberson
DESCRIPTION:
X-ALT-DESC;FMTTYPE=text/html:
LOCATION:
UID:e.840.1591
SEQUENCE:3
DTSTAMP:20260425T103735Z
URL:https://business.greenvillenc.org/events/details/piano-music-reese-roberson-02-27-2015-1591
END:VEVENT

END:VCALENDAR
