BEGIN:VCALENDAR
VERSION:2.0
PRODID:-//ChamberMaster//Event Calendar 2.0//EN
METHOD:PUBLISH
X-PUBLISHED-TTL:P3D
REFRESH-INTERVAL:P3D
CALSCALE:GREGORIAN
BEGIN:VEVENT
DTSTART;VALUE=DATE:20190909
DTEND;VALUE=DATE:20190930
TRANSP:TRANSPARENT
X-MICROSOFT-CDO-ALLDAYEVENT:TRUE
SUMMARY:PetSmart Adoptions Sign Up September 2019
DESCRIPTION:Thank you for signing up and helping to save lives!  You are playing an important role in uniting cats and kittens with loving\, warm indoor homes with responsible families.  There is some flexibility in hours but typically weekends are from approximately 10:30/11 am until 4:30/5:00 pm.  Weekdays are usually approximately 4:30 pm until 8:00 pm.  If you have questions\, please contact Kathy at 252 531 0453.  Thank You!  IF YOU HAVEN'T COMPLETED THE PROPER APPLICATION TO VOLUNTEER PLEASE DO NOT SIGN UP AS WE WILL NOT HAVE YOUR CONTACT INFORMATION.  YOU MUST BE ENTERED INTO THE PROGRAM BY AN ADMINISTRATOR.  http://bgpanimalrescue.com/volunteer/\n\nIf you cannot cover the entire shift please notate in the comments section the hours you are available.\n\nhttps://www.facebook.com/BGPAnimalRescue/\n\n\n\nSign up here!
X-ALT-DESC;FMTTYPE=text/html:<p>Thank you for signing up and helping to save lives!&nbsp\; You are playing an important role in uniting cats and kittens with loving\, warm indoor homes with responsible families.&nbsp\; There is some flexibility in hours but typically weekends are from approximately 10:30/11 am until 4:30/5:00&nbsp\;pm.&nbsp\; Weekdays are usually approximately 4:30 pm until 8:00 pm.&nbsp\; If you have questions\, please contact Kathy at 252 531 0453.&nbsp\; Thank You!&nbsp\;<span style="color:rgb(0\, 0\, 0)">&nbsp\;<strong>IF YOU HAVEN&#39\;T COMPLETED THE PROPER APPLICATION TO VOLUNTEER PLEASE DO NOT SIGN UP AS WE WILL NOT HAVE YOUR CONTACT INFORMATION.&nbsp\; YOU MUST BE ENTERED INTO THE PROGRAM BY AN ADMINISTRATOR.&nbsp\;</strong></span><span style="color:rgb(165\, 42\, 42)"><strong>&nbsp\;<a class="SUGlink" href="http://bgpanimalrescue.com/volunteer/" rel="nofollow" style="box-sizing: border-box\; -webkit-font-smoothing: antialiased\; background-color: transparent\; color: rgb(133\, 82\, 53)\; transition: color 0.2s cubic-bezier(0.6\, 0\, 0.1\, 1) 0s\;">http://bgpanimalrescue.com/volunteer/</a></strong></span></p>\n\n<p><span style="color:rgb(0\, 0\, 0)"><strong>If you cannot cover the entire shift please notate in the comments section the hours you are available.</strong></span></p>\n\n<p><a class="SUGlink" href="https://www.facebook.com/BGPAnimalRescue/" rel="nofollow" style="box-sizing: border-box\; -webkit-font-smoothing: antialiased\; background-color: transparent\; color: rgb(133\, 82\, 53)\; transition: color 0.2s cubic-bezier(0.6\, 0\, 0.1\, 1) 0s\; font-weight: bold\;">https://www.facebook.com/BGPAnimalRescue/</a><br />\n<br />\n<a href="https://www.signupgenius.com/go/70a044daca82fa4ff2-petsmart1">Sign up here!</a></p>\n
LOCATION:PetSmart Greenville 600 Greenville Blvd SE Greenville NC 27858
UID:e.840.10787
SEQUENCE:3
DTSTAMP:20260420T121814Z
URL:https://business.greenvillenc.org/events/details/petsmart-adoptions-sign-up-september-2019-09-09-2019-10787
END:VEVENT

END:VCALENDAR
