BEGIN:VCALENDAR
VERSION:2.0
PRODID:-//ChamberMaster//Event Calendar 2.0//EN
METHOD:PUBLISH
X-PUBLISHED-TTL:P3D
REFRESH-INTERVAL:P3D
CALSCALE:GREGORIAN
BEGIN:VEVENT
DTSTART:20190518T140000Z
DTEND:20190518T180000Z
X-MICROSOFT-CDO-ALLDAYEVENT:FALSE
SUMMARY:Pets in the Park
DESCRIPTION:Do you love your dog?  So does the Curtis Media Group! Our listeners are the proud owners and parents of dogs\, cats\, fish\, birds\, pigs\, rodents and reptiles! Pets in the Park celebrates our love affair with our animals   a full day where you can bring your pet & listen to music\, eat\, shop\, enjoy pet-themed entertainment\, and even adopt an animal in need!\n\n\n\nAdopt-A-Thon: We'll have an Adopt-A-Thon with the Humane Society of Eastern Carolina and other rescue organizations! We hope you can find a furrever friend while you're out!\nWhat Else Is Going On: We'll have live music\, contests\, a dog wedding\, vendors\, food vendors\, fun stuff for kids and more!\n\nVendors: If you're interested in being involved with our 2019 event please contact Shelley Binegar at sbinegar@curtismedia.com
X-ALT-DESC;FMTTYPE=text/html:<span style="font-size:12px"><span style="font-family:arial\,helvetica\,sans-serif"><span style="color:black">Do you love your dog?&nbsp\; So does the Curtis Media Group! Our listeners are the proud owners and parents of dogs\, cats\, fish\, birds\, pigs\, rodents and reptiles! Pets in the Park celebrates our love affair with our animals &ndash\; a full day where you can bring your pet &amp\; listen to music\, eat\, shop\, enjoy pet-themed entertainment\, and even adopt an animal in need!</span><br />\n<br />\nAdopt-A-Thon:<span style="background-color:rgb(255\, 255\, 255)\; color:rgb(51\, 51\, 51)">&nbsp\;We&rsquo\;ll have an Adopt-A-Thon with the Humane Society of Eastern Carolina and other rescue organizations! We hope you can find a furrever friend while you&rsquo\;re out!</span></span></span>\n<p><span style="font-size:12px"><span style="font-family:arial\,helvetica\,sans-serif">What Else Is Going On:&nbsp\;We&rsquo\;ll have live music\, contests\, a dog wedding\, vendors\, food vendors\, fun stuff for kids and more!</span></span></p>\n\n<p><span style="font-size:12px"><span style="font-family:arial\,helvetica\,sans-serif">Vendors:&nbsp\;If you&rsquo\;re interested in being involved with our 2019 event please contact Shelley Binegar at sbinegar@curtismedia.com</span></span></p>\n
LOCATION:Greenville Town Common Park
UID:e.840.9778
SEQUENCE:3
DTSTAMP:20260420T173429Z
URL:https://business.greenvillenc.org/events/details/pets-in-the-park-9778
END:VEVENT

END:VCALENDAR
