BEGIN:VCALENDAR
VERSION:2.0
PRODID:-//ChamberMaster//Event Calendar 2.0//EN
METHOD:PUBLISH
X-PUBLISHED-TTL:P3D
REFRESH-INTERVAL:P3D
CALSCALE:GREGORIAN
BEGIN:VEVENT
DTSTART:20200912T150000Z
DTEND:20200912T180000Z
X-MICROSOFT-CDO-ALLDAYEVENT:FALSE
SUMMARY:Pets in the Park
DESCRIPTION:Do you love your dog?  So does the Curtis Media Group! Our listeners are the proud owners and parents of dogs\, cats\, fish\, birds\, pigs\, rodents and reptiles! Pets in the Park celebrates our love affair with our animals   a full day where you can bring your pet\, listen to music\, eat\, shop\, enjoy pet-themed entertainment\, and even adopt an animal in need!
X-ALT-DESC;FMTTYPE=text/html:<span style="color:black"><span style="font-family:calibri"><span style="font-size:16.0pt">Do you love your dog?&nbsp\; So does the Curtis Media Group! Our listeners are the proud owners and parents of dogs\, cats\, fish\, birds\, pigs\, rodents and reptiles! Pets in the Park celebrates our love affair with our animals &ndash\; a full day where you can bring your pet\, listen to music\, eat\, shop\, enjoy pet-themed entertainment\, and even adopt an animal in need!</span></span></span>
LOCATION:GREENVILLE TOWN COMMON
UID:e.840.10993
SEQUENCE:3
DTSTAMP:20260419T174910Z
URL:https://business.greenvillenc.org/events/details/pets-in-the-park-03-28-2020-10993
END:VEVENT

END:VCALENDAR
