BEGIN:VCALENDAR
VERSION:2.0
PRODID:-//ChamberMaster//Event Calendar 2.0//EN
METHOD:PUBLISH
X-PUBLISHED-TTL:P3D
REFRESH-INTERVAL:P3D
CALSCALE:GREGORIAN
BEGIN:VEVENT
DTSTART:20191010T220000Z
DTEND:20191011T020000Z
X-MICROSOFT-CDO-ALLDAYEVENT:FALSE
SUMMARY:"Peace It Together" Charity Masquerade Ball
DESCRIPTION:This fundraiser event will feature dinner\, live entertainment\, awards and more! Our speaker of the evening is Ashley-Nicole Russell\, Nationally Acclaimed Attorney & Author. This charity ball will be a wonderful night of fundraising\, celebrating\, and lasting memories.  We invite you to come dressed in your finest black tie attire\, your own mask\, or the option to purchase one at the event!
X-ALT-DESC;FMTTYPE=text/html:<table border="1" cellpadding="0" cellspacing="0" style="border-collapse:collapse\; border:none">\n	<tbody>\n		<tr>\n			<td style="vertical-align:top\; width:409px"><span style="font-family:tahoma">This fundraiser event will feature dinner\, live entertainment\, awards and more! Our speaker of the evening is Ashley-Nicole Russell\, Nationally Acclaimed Attorney &amp\; Author. This charity ball will be a wonderful night of fundraising\, celebrating\, and lasting memories.&nbsp\; We invite you to come dressed in your finest black tie attire\, your own mask\, or the option to purchase one at the event!&nbsp\;</span><br />\n			&nbsp\;</td>\n		</tr>\n	</tbody>\n</table>\n
LOCATION:Greenville Country Club 216 Country Club Drive Greenville\, NC 27834
UID:e.840.10351
SEQUENCE:3
DTSTAMP:20260420T104051Z
URL:https://business.greenvillenc.org/events/details/peace-it-together-charity-masquerade-ball-10351
END:VEVENT

END:VCALENDAR
