BEGIN:VCALENDAR
VERSION:2.0
PRODID:-//ChamberMaster//Event Calendar 2.0//EN
METHOD:PUBLISH
X-PUBLISHED-TTL:P3D
REFRESH-INTERVAL:P3D
CALSCALE:GREGORIAN
BEGIN:VEVENT
DTSTART;VALUE=DATE:20201015
DTEND;VALUE=DATE:20201018
TRANSP:TRANSPARENT
X-MICROSOFT-CDO-ALLDAYEVENT:TRUE
SUMMARY:PCOA Historic Savannah\, GA
DESCRIPTION:Join us on a 3 day/2 night trip to historic Savannah. Trip includes 2 Breakfasts\, Dinner at Paula Deen's Creek House\, Dinner at Mrs. Wilkes' Dining Room\; a guided tour of historic Savanah\, a performance at the Savannah Historic Theater\; a guided tram tour of historic Jekyll Island\; a tour of St Simon Islands\, including the St Simon Lighthouse\; and a visit to famous River Street. For details contact the Council on Aging at 752-1717.
X-ALT-DESC;FMTTYPE=text/html:<span style="font-family:arial nova light"><span style="font-size:11pt">Join us on a 3 day/2 night trip to historic Savannah. Trip includes 2 Breakfasts\,</span></span><span style="font-family:arial nova light"><span style="font-size:11pt">&nbsp\;Dinner at Paula Deen&rsquo\;s Creek House\, Dinner at Mrs. Wilkes&rsquo\; Dining Room\;&nbsp\;</span></span><span style="font-family:arial nova light"><span style="font-size:11pt">a guided tour of historic Savanah\, a performance at the Savannah Historic Theater\;&nbsp\;</span></span><span style="font-family:arial nova light"><span style="font-size:11pt">a guided tram tour of historic Jekyll Island\; a tour of St Simon Islands\,&nbsp\;</span></span><span style="font-family:arial nova light"><span style="font-size:11pt">including the St Simon Lighthouse\; and a visit to famous River Street. For details contact the Council on Aging at 752-1717.</span></span>
LOCATION:
UID:e.840.10997
SEQUENCE:3
DTSTAMP:20260419T161855Z
URL:https://business.greenvillenc.org/events/details/pcoa-historic-savannah-ga-10997
END:VEVENT

END:VCALENDAR
