BEGIN:VCALENDAR
VERSION:2.0
PRODID:-//ChamberMaster//Event Calendar 2.0//EN
METHOD:PUBLISH
X-PUBLISHED-TTL:P3D
REFRESH-INTERVAL:P3D
CALSCALE:GREGORIAN
BEGIN:VEVENT
DTSTART:20170422T130000Z
DTEND:20170422T140000Z
X-MICROSOFT-CDO-ALLDAYEVENT:FALSE
SUMMARY:PCCSA Community Coffee!
DESCRIPTION:Come join the Pitt County Coalition on Substance Abuse to discuss future volunteer opportunities and initiatives. Coffee\, drinks\, and a buffet breakfast will be provided! The breakfast will be from 9-10 a.m. on Saturday\, April 22\, at GK Cafe and Catering\, 3197 E. 10th St. Board members will be present at the meeting to answer any questions as well!!\n\nHope to see you there!\n\n\n\n\n\nFree breakfast included. Anyone interested in the coalition is invited. Please RSVP to PCCSA@ecu.edu.
X-ALT-DESC;FMTTYPE=text/html:<span style="font-size:12px"><span style="font-family:arial\,helvetica\,sans-serif">Come join the Pitt County Coalition on Substance Abuse to discuss future volunteer opportunities and initiatives. Coffee\, drinks\, and a buffet breakfast will be provided! The breakfast will be from&nbsp\;9-10 a.m. on Saturday\, April 22\, at GK Cafe and Catering\, 3197 E. 10th St. Board members will be present at the meeting to answer any questions as well!!<br />\nHope to see you there!<br />\n<br />\n<br />\nFree breakfast included. Anyone interested in the coalition is invited. Please RSVP to&nbsp\;<a href="mailto:PCCSA@ecu.edu" style="box-sizing: border-box\; margin: 0px\; padding: 0px\; border: 0px\; font-variant-numeric: inherit\; font-stretch: inherit\; font-size: 14px\; line-height: inherit\; font-family: Arial\, &quot\;MS Trebuchet&quot\;\, sans-serif\; vertical-align: baseline\; text-decoration-line: none\;" target="_blank">PCCSA@ecu.edu</a>.</span></span>
LOCATION:GK Cafe and Catering\, 3197 E. 10th St
UID:e.840.8087
SEQUENCE:3
DTSTAMP:20260423T164548Z
URL:https://business.greenvillenc.org/events/details/pccsa-community-coffee-8087
END:VEVENT

END:VCALENDAR
