BEGIN:VCALENDAR
VERSION:2.0
PRODID:-//ChamberMaster//Event Calendar 2.0//EN
METHOD:PUBLISH
X-PUBLISHED-TTL:P3D
REFRESH-INTERVAL:P3D
CALSCALE:GREGORIAN
BEGIN:VEVENT
DTSTART:20191211T203000Z
DTEND:20191211T210000Z
X-MICROSOFT-CDO-ALLDAYEVENT:FALSE
SUMMARY:PCC Hair Styling Academy Ribbon Cutting Ceremony
DESCRIPTION:Please join us for a Ribbon Cutting Ceremony for the Pitt Community College Hair Styling Academy on Wednesday\, December 11 at 3:30pm.
X-ALT-DESC;FMTTYPE=text/html:<span style="color: rgb(29\, 33\, 41)\; font-size: 14px\;">Please join us for a Ribbon Cutting Ceremony&nbsp\;for the Pitt Community College Hair Styling Academy on Wednesday\, December 11 at 3:30pm.</span>
LOCATION:PCC Hair Styling Academy Arlington Village 426 Arlington Blvd. Greenville\, NC 27858
UID:e.840.10960
SEQUENCE:3
DTSTAMP:20260420T061427Z
URL:https://business.greenvillenc.org/events/details/pcc-hair-styling-academy-ribbon-cutting-ceremony-10960
END:VEVENT

END:VCALENDAR
