BEGIN:VCALENDAR
VERSION:2.0
PRODID:-//ChamberMaster//Event Calendar 2.0//EN
METHOD:PUBLISH
X-PUBLISHED-TTL:P3D
REFRESH-INTERVAL:P3D
CALSCALE:GREGORIAN
BEGIN:VEVENT
DTSTART:20190305T133000Z
DTEND:20190305T170000Z
X-MICROSOFT-CDO-ALLDAYEVENT:FALSE
SUMMARY:PCC Continuing Education Open House
DESCRIPTION:Please join us for a floating Open House of the Pitt Community College Continuing Education & Workforce Division at the Greenville Center. We specialize in short-term training programs as well as small business and personal enrichment. We would love for you to come check out all we have to offer and have a chance to get information\, speak with our Directors and coordinators\, and ask questions! Our building will be open for you to walk around and we will even have a few light refreshments!\n\nFor more information\, please contact Reggie Baker at 252.493.7345 or rbaker@email.pittcc.edu. You can also visit our website and browse our programs and classes: https://pittcc.edu/community/continuing-education/\n\nWe look forward to seeing you!
X-ALT-DESC;FMTTYPE=text/html:<p>Please join us for a floating Open House of the Pitt Community College Continuing Education &amp\; Workforce Division at the Greenville Center. We specialize in short-term training programs as well as small business and personal enrichment. We would love for you to come check out all we have to offer and have a chance to get information\, speak with our Directors and coordinators\, and ask questions! Our building will be open for you to walk around and we will even have a few light refreshments!</p>\n\n<p>For more information\, please contact Reggie Baker at 252.493.7345 or rbaker@email.pittcc.edu. You can also visit our website and browse our programs and classes:&nbsp\;<a href="https://pittcc.edu/community/continuing-education/" rel="nofollow noopener noreferrer" style="color: var(--eds-control\,#3659e3)\; text-decoration-line: none\; cursor: pointer\; background-color: transparent\; padding-top: 0px\;" target="_blank">https://pittcc.edu/community/continuing-education/</a></p>\n\n<p>We look forward to seeing you!</p>\n
LOCATION:PCC Greenville Center 3107 S. Memorial Drive Greenville\, NC 27834
UID:e.840.9756
SEQUENCE:3
DTSTAMP:20260420T190547Z
URL:https://business.greenvillenc.org/events/details/pcc-continuing-education-open-house-9756
END:VEVENT

END:VCALENDAR
