BEGIN:VCALENDAR
VERSION:2.0
PRODID:-//ChamberMaster//Event Calendar 2.0//EN
METHOD:PUBLISH
X-PUBLISHED-TTL:P3D
REFRESH-INTERVAL:P3D
CALSCALE:GREGORIAN
BEGIN:VEVENT
DTSTART:20170326T190000Z
DTEND:20170326T210000Z
X-MICROSOFT-CDO-ALLDAYEVENT:FALSE
SUMMARY:PCC Bulldog 5K & 1 Mile Family Fun Run
DESCRIPTION:The Pitt Community College Center for Student Activities is sponsoring the Bulldog 5K and Family Fun Run to help fund events\, trips\, and pinning ceremonies for student clubs and organizations. Bring your family and come on out to support PCC! All race participants will receive a race t-shirt and pre-race bag on the day of the race. Race will begin at 3PM with registration from 1:30PM - 2:45PM.
X-ALT-DESC;FMTTYPE=text/html:The Pitt Community College Center for Student Activities is sponsoring the Bulldog 5K and Family Fun Run to help fund events\, trips\, and pinning ceremonies for student clubs and organizations. Bring your family and come on out to support PCC! All race participants will receive a race t-shirt and pre-race bag on the day of the race. Race will begin at 3PM with registration from 1:30PM - 2:45PM.
LOCATION:Pitt Community College Campus Starting Line: Goess Construction & Industrial Building Finish Line: Lewis Fieldhouse
UID:e.840.8063
SEQUENCE:3
DTSTAMP:20260423T182504Z
URL:https://business.greenvillenc.org/events/details/pcc-bulldog-5k-1-mile-family-fun-run-8063
END:VEVENT

END:VCALENDAR
