BEGIN:VCALENDAR
VERSION:2.0
PRODID:-//ChamberMaster//Event Calendar 2.0//EN
METHOD:PUBLISH
X-PUBLISHED-TTL:P3D
REFRESH-INTERVAL:P3D
CALSCALE:GREGORIAN
BEGIN:VEVENT
DTSTART:20191205T233000Z
DTEND:20191206T033000Z
X-MICROSOFT-CDO-ALLDAYEVENT:FALSE
SUMMARY:Party with a Purpose
DESCRIPTION:First Annual Chris Godley State Farm Party with a Purpose fundraiser benefiting the Ronald McDonald House. This cocktail party will be held at ECU Student Center Ballroom from 6:30 p.m. until 10:30 p.m.  The headliner will be Mickele Buck from Season 15 The Voice and featuring DJ Charlie Mac. Email me to obtain tickets at chris@godleyinsurance.com or Hannah@godleyinsurance.com \n\n(252) 364-8940 "ask for Hannah"
X-ALT-DESC;FMTTYPE=text/html:First Annual Chris Godley State Farm Party with a Purpose fundraiser&nbsp\;benefiting the Ronald McDonald House. This&nbsp\;cocktail party will&nbsp\;be held at ECU Student&nbsp\;Center&nbsp\;Ballroom&nbsp\;from 6:30 p.m.&nbsp\;until 10:30 p.m.&nbsp\;&nbsp\;The headliner will be Mickele Buck from Season 15 The Voice and featuring DJ Charlie Mac. Email me to obtain tickets at <a href="mailto:chris@godleyinsurance.com">chris@godleyinsurance.com</a> or <a href="mailto:Hannah@godleyinsurance.com">Hannah@godleyinsurance.com</a>&nbsp\;<br />\n(252) 364-8940 &quot\;ask for Hannah&quot\;
LOCATION:ECU Student Center Ballroom
UID:e.840.10928
SEQUENCE:3
DTSTAMP:20260420T060915Z
URL:https://business.greenvillenc.org/events/details/party-with-a-purpose-10928
END:VEVENT

END:VCALENDAR
