BEGIN:VCALENDAR
VERSION:2.0
PRODID:-//ChamberMaster//Event Calendar 2.0//EN
METHOD:PUBLISH
X-PUBLISHED-TTL:P3D
REFRESH-INTERVAL:P3D
CALSCALE:GREGORIAN
BEGIN:VEVENT
DTSTART:20161028T000000Z
DTEND:20161028T014500Z
X-MICROSOFT-CDO-ALLDAYEVENT:FALSE
SUMMARY:Parsons Dance Company
DESCRIPTION:East Carolina University's S. Rudolph Alexander Performing Arts Seris presents the athletic\, exuberant personality and joyous movement that is Parsons Dance. The company maintains a repertory of more than 80 works (20 with commissioned scores) choreographed by David Parsons. The style is a fusion of the gesture and movement that make up the modern dance vocabulary coupled with the discipline and precise execution one expects from a classical company. Come fly with us! Individual tickets for this event are available on September 16. Sign up for an on-sale alert and special offers on our website. \n\nThis performance is funded in part by a grant from South Arts in partnership with the National Endowment of the Arts and The Andrew W. Mellon Foundation.
X-ALT-DESC;FMTTYPE=text/html:<p>East Carolina University&#39\;s S. Rudolph Alexander Performing Arts Seris presents the athletic\, exuberant personality and joyous movement that is Parsons Dance. The company maintains a repertory of more than 80 works (20 with commissioned scores) choreographed by David Parsons. The style is a fusion of the gesture and movement that make up the modern dance vocabulary coupled with the discipline and precise execution one expects from a classical company. Come fly with us!&nbsp\;<span style="font-family:gotham\; font-size:9px">Individual tickets for this event are available on September 16.&nbsp\;Sign up for an on-sale alert and special offers on our website.&nbsp\;</span></p>\n\n<p>This performance is funded in part by a grant from South Arts in partnership with the National Endowment of the Arts and The Andrew W. Mellon Foundation.&nbsp\;</p>\n
LOCATION:ECU's Wright Auditorium
UID:e.840.2673
SEQUENCE:3
DTSTAMP:20260424T010540Z
URL:https://business.greenvillenc.org/events/details/parsons-dance-company-10-27-2016-2673
END:VEVENT

END:VCALENDAR
