BEGIN:VCALENDAR
VERSION:2.0
PRODID:-//ChamberMaster//Event Calendar 2.0//EN
METHOD:PUBLISH
X-PUBLISHED-TTL:P3D
REFRESH-INTERVAL:P3D
CALSCALE:GREGORIAN
BEGIN:VEVENT
DTSTART;VALUE=DATE:20200514
DTEND;VALUE=DATE:20200521
TRANSP:TRANSPARENT
X-MICROSOFT-CDO-ALLDAYEVENT:TRUE
SUMMARY:Papa Johns supports Riley's Army!
DESCRIPTION:Join Papa John's in supporting Riley's Army on Wednesday\, May 20!  We will receive 15% of sales!\n\n\n\nAll you need to do is sign up to place an order on this link: https://www.groupraise.com/events/143458?fbclid=IwAR2S2CwsJjrognzWMGtYCJVpjz_EZnXt8nUcdUFRjyMHn3bDwFIK9woNOzI
X-ALT-DESC;FMTTYPE=text/html:<p>Join Papa John&#39\;s in supporting Riley&#39\;s Army on Wednesday\, May 20!&nbsp\; We will receive 15% of sales!</p>\n\n<p><br />\nAll you need to do is sign up to place an order on this link:&nbsp\;<a href="https://www.groupraise.com/events/143458?fbclid=IwAR2S2CwsJjrognzWMGtYCJVpjz_EZnXt8nUcdUFRjyMHn3bDwFIK9woNOzI">https://www.groupraise.com/events/143458?fbclid=IwAR2S2CwsJjrognzWMGtYCJVpjz_EZnXt8nUcdUFRjyMHn3bDwFIK9woNOzI</a><br />\n<br />\n<br />\n&nbsp\;</p>\n
LOCATION:
UID:e.840.11421
SEQUENCE:3
DTSTAMP:20260420T000017Z
URL:https://business.greenvillenc.org/events/details/papa-johns-supports-riley-s-army-11421
END:VEVENT

END:VCALENDAR
