BEGIN:VCALENDAR
VERSION:2.0
PRODID:-//ChamberMaster//Event Calendar 2.0//EN
METHOD:PUBLISH
X-PUBLISHED-TTL:P3D
REFRESH-INTERVAL:P3D
CALSCALE:GREGORIAN
BEGIN:VEVENT
DTSTART;VALUE=DATE:20160331
DTEND;VALUE=DATE:20160405
TRANSP:TRANSPARENT
X-MICROSOFT-CDO-ALLDAYEVENT:TRUE
SUMMARY:Pandora Free Bracelet Event
DESCRIPTION:Free Sterling Silver Bracelet (Retail Value of $65) with any purchase of $100! Free Two Tone with a purchase of $500 or more!  Free 14kt Gold Bracelet with a purchase of $3000!\n\n\n\nTons of new Spring Products in just in time for upcoming Mother's Day\, Graduation\, Birthdays\, Anniversaries\, or just because!\n\n\n\nWe look forward to seeing you!
X-ALT-DESC;FMTTYPE=text/html:Free Sterling Silver Bracelet (Retail Value of $65) with any purchase of $100! Free Two Tone with a purchase of $500 or more!&nbsp\; Free 14kt Gold Bracelet with a purchase of $3000!<br />\n<br />\nTons of new Spring Products in just in time for upcoming Mother&#39\;s Day\, Graduation\, Birthdays\, Anniversaries\, or just because!<br />\n<br />\nWe look forward to seeing you!
LOCATION:Bailey's Fine Jewelry
UID:e.840.2459
SEQUENCE:3
DTSTAMP:20260424T100932Z
URL:https://business.greenvillenc.org/events/details/pandora-free-bracelet-event-03-31-2016-2459
END:VEVENT

END:VCALENDAR
