BEGIN:VCALENDAR
VERSION:2.0
PRODID:-//ChamberMaster//Event Calendar 2.0//EN
METHOD:PUBLISH
X-PUBLISHED-TTL:P3D
REFRESH-INTERVAL:P3D
CALSCALE:GREGORIAN
BEGIN:VEVENT
DTSTART:20141101T180000Z
DTEND:20141101T200000Z
X-MICROSOFT-CDO-ALLDAYEVENT:FALSE
SUMMARY:Open House on Saturday\, November 1st\, 2014
DESCRIPTION:Open House from 2 pm to 4 pm on Saturday\, November 1st\, 2014.\n\nFree t-shirt with purchase of fish\, reptile or arachnid.\n\n10% discount storewide on live inventory and supplies
X-ALT-DESC;FMTTYPE=text/html:Open House from 2 pm to 4 pm on Saturday\, November 1st\, 2014.<br />\nFree t-shirt with purchase of fish\, reptile or arachnid.<br />\n10% discount storewide on live inventory and supplies
LOCATION:536 Third Street\, Ayden\, NC 28513
UID:e.840.1556
SEQUENCE:3
DTSTAMP:20260425T135116Z
URL:https://business.greenvillenc.org/events/details/open-house-on-saturday-november-1st-2014-11-01-2014-1556
END:VEVENT

END:VCALENDAR
