BEGIN:VCALENDAR
VERSION:2.0
PRODID:-//ChamberMaster//Event Calendar 2.0//EN
METHOD:PUBLISH
X-PUBLISHED-TTL:P3D
REFRESH-INTERVAL:P3D
CALSCALE:GREGORIAN
BEGIN:VEVENT
DTSTART:20161120T180000Z
DTEND:20161120T220000Z
X-MICROSOFT-CDO-ALLDAYEVENT:FALSE
SUMMARY:Open House
DESCRIPTION:Great Discounts!
X-ALT-DESC;FMTTYPE=text/html:Great Discounts!<br />\n&nbsp\;
LOCATION:Arlington Village 684-C Arlington Blvd. Greenville\, NC 27858
UID:e.840.6299
SEQUENCE:3
DTSTAMP:20260423T235656Z
URL:https://business.greenvillenc.org/events/details/open-house-6299
END:VEVENT

END:VCALENDAR
