BEGIN:VCALENDAR
VERSION:2.0
PRODID:-//ChamberMaster//Event Calendar 2.0//EN
METHOD:PUBLISH
X-PUBLISHED-TTL:P3D
REFRESH-INTERVAL:P3D
CALSCALE:GREGORIAN
BEGIN:VEVENT
DTSTART:20141106T223000Z
DTEND:20141107T010000Z
X-MICROSOFT-CDO-ALLDAYEVENT:FALSE
SUMMARY:Open House
DESCRIPTION:Please join us on Friday November 7th for our Open House where you can take a tour and meet our therapists while enjoying drinks and some appetizers from Uptown/Downtown neighbors\, including Christy's Euro Pub\, The Scullery\, Peasant's\, Varsity Club and new kid on the block\, Campus Cookies!
X-ALT-DESC;FMTTYPE=text/html:Please join us on Friday November 7th for our Open House where you can take a tour and meet our therapists while enjoying drinks and some appetizers from Uptown/Downtown neighbors\, including Christy&#39\;s Euro Pub\, The Scullery\, Peasant&#39\;s\, Varsity Club and new kid on the block\, Campus Cookies!
LOCATION:210 S Washington Street\, Greenville\, NC
UID:e.840.1557
SEQUENCE:3
DTSTAMP:20260425T134008Z
URL:https://business.greenvillenc.org/events/details/open-house-11-06-2014-1557
END:VEVENT

END:VCALENDAR
