BEGIN:VCALENDAR
VERSION:2.0
PRODID:-//ChamberMaster//Event Calendar 2.0//EN
METHOD:PUBLISH
X-PUBLISHED-TTL:P3D
REFRESH-INTERVAL:P3D
CALSCALE:GREGORIAN
BEGIN:VEVENT
DTSTART:20160619T180000Z
DTEND:20160619T200000Z
X-MICROSOFT-CDO-ALLDAYEVENT:FALSE
SUMMARY:OPEN HOUSE
DESCRIPTION:Stop by to see two Craftsman-style homes located in the Anderson Creek subdivision\, located in the popular Chicod/Conley school district!\n\nWillie will be there to show you around these two houses from 2-4pm on Sunday\, June 19th!\n\n1853 Ida  &Mary McLawhorn Rd\n\n1869 Ida & Mary McLawhorn Rd\n\nSee you there!
X-ALT-DESC;FMTTYPE=text/html:Stop by to see two Craftsman-style homes located in the Anderson Creek subdivision\, located in the popular Chicod/Conley school district!<br />\nWillie will be there to show you around these two houses from 2-4pm on Sunday\, June 19th!<br />\n1853 Ida&nbsp\; &amp\;Mary McLawhorn Rd<br />\n1869 Ida &amp\; Mary McLawhorn Rd<br />\nSee you there!<br />\n&nbsp\;
LOCATION:
UID:e.840.4915
SEQUENCE:3
DTSTAMP:20260424T065422Z
URL:https://business.greenvillenc.org/events/details/open-house-06-19-2016-4915
END:VEVENT

END:VCALENDAR
