BEGIN:VCALENDAR
VERSION:2.0
PRODID:-//ChamberMaster//Event Calendar 2.0//EN
METHOD:PUBLISH
X-PUBLISHED-TTL:P3D
REFRESH-INTERVAL:P3D
CALSCALE:GREGORIAN
BEGIN:VEVENT
DTSTART:20180110T220000Z
DTEND:20180110T233000Z
X-MICROSOFT-CDO-ALLDAYEVENT:FALSE
SUMMARY:Open House
DESCRIPTION:The ECU Youth Excelling For Success After School Program is having an Open House on Wednesday\, January 10\, 2018. We will be recruiting youth in grades 2nd through 5th. This event will give parents an opportunity to see (first- hand) the many wonderful activities that our program offers. Parents will also meet the staff and ask questions.
X-ALT-DESC;FMTTYPE=text/html:The ECU Youth Excelling For Success After School Program is having an Open House on Wednesday\, January 10\, 2018. We will be recruiting youth in grades 2nd through 5th. This event will give parents an opportunity to see (first- hand) the many wonderful activities that our program offers. Parents will also meet the staff and ask questions.
LOCATION:The Lucille W. Gorham Intergenerational Community Center 1100 Ward Street Greenville\, NC 27834
UID:e.840.8688
SEQUENCE:3
DTSTAMP:20260423T032259Z
URL:https://business.greenvillenc.org/events/details/open-house-01-10-2018-8688
END:VEVENT

END:VCALENDAR
