BEGIN:VCALENDAR
VERSION:2.0
PRODID:-//ChamberMaster//Event Calendar 2.0//EN
METHOD:PUBLISH
X-PUBLISHED-TTL:P3D
REFRESH-INTERVAL:P3D
CALSCALE:GREGORIAN
BEGIN:VEVENT
DTSTART:20190913T210000Z
DTEND:20190913T230000Z
X-MICROSOFT-CDO-ALLDAYEVENT:FALSE
SUMMARY:One Year Anniversary! *Postponed*
DESCRIPTION:*Postponed Due to Dorian*\n\nHalo Home wants to thank you for your support. \n\nPlease come celebrate with us.\nJoin Halo Home in celebrating One Year\n\nFriday\, September 13th\, 5 - 7 pm\n\nCocktails & Hors D'oeurvres\n\n\n\n5 Lucky Winners will receive $100 Gift Card \n\nMUST BE PRESENT TO WIN\n\n\n\nSweet Grace\n\nBuy Two Get One Free\n\nSale during time of event only
X-ALT-DESC;FMTTYPE=text/html:<h2><span style="font-size:12px"><strong><span style="color:firebrick"><span style="font-family:georgia\,serif">*Postponed Due to Dorian*</span></span></strong><br />\n<span style="color:rgb(34\, 34\, 34)"><span style="font-family:georgia\,serif"><strong>Halo Home wants to thank you for your support.&nbsp\;</strong></span></span><br />\n<strong><span style="color:rgb(34\, 34\, 34)"><span style="font-family:georgia\,serif">Please come celebrate with us.</span></span></strong></span></h2>\nJoin Halo Home in celebrating One Year<br />\nFriday\, September 13th\, 5 - 7 pm<br />\nCocktails &amp\; Hors D&#39\;oeurvres<br />\n<br />\n5 Lucky Winners will receive $100 Gift Card&nbsp\;<br />\nMUST BE PRESENT TO WIN<br />\n<br />\nSweet Grace<br />\nBuy Two Get One Free<br />\n<span style="font-size:9px">Sale during time of event only</span>
LOCATION:Halo Home 801 Dickinson Ave. Greenville\, NC 27834-3149
UID:e.840.10778
SEQUENCE:3
DTSTAMP:20260420T104754Z
URL:https://business.greenvillenc.org/events/details/one-year-anniversary-postponed-10778
END:VEVENT

END:VCALENDAR
