BEGIN:VCALENDAR
VERSION:2.0
PRODID:-//ChamberMaster//Event Calendar 2.0//EN
METHOD:PUBLISH
X-PUBLISHED-TTL:P3D
REFRESH-INTERVAL:P3D
CALSCALE:GREGORIAN
BEGIN:VEVENT
DTSTART:20190906T210000Z
DTEND:20190906T230000Z
X-MICROSOFT-CDO-ALLDAYEVENT:FALSE
SUMMARY:One Year Anniversary!
DESCRIPTION:Halo Home wants to thank you for your support.\n\nPlease come celebrate with us. \n\nJoin Halo Home in celebrating One Year\n\nFriday\, September 6th\, 5 - 7 pm\n\nCocktails & Hors D'oeurvres\n\n\n\n5 Lucky Winners will receive $100 Gift Card \n\nMUST BE PRESENT TO WIN
X-ALT-DESC;FMTTYPE=text/html:Halo Home wants to thank you for your support.<br />\nPlease come celebrate with us.&nbsp\;<br />\nJoin Halo Home in celebrating One Year<br />\nFriday\, September 6th\, 5 - 7 pm<br />\nCocktails &amp\; Hors D&#39\;oeurvres<br />\n<br />\n5 Lucky Winners will receive $100 Gift Card&nbsp\;<br />\nMUST BE PRESENT TO WIN<br />\n&nbsp\;
LOCATION:Halo Home 801 Dickinson Ave Greenville\, NC 27834
UID:e.840.10773
SEQUENCE:3
DTSTAMP:20260420T103345Z
URL:https://business.greenvillenc.org/events/details/one-year-anniversary-10773
END:VEVENT

END:VCALENDAR
