BEGIN:VCALENDAR
VERSION:2.0
PRODID:-//ChamberMaster//Event Calendar 2.0//EN
METHOD:PUBLISH
X-PUBLISHED-TTL:P3D
REFRESH-INTERVAL:P3D
CALSCALE:GREGORIAN
BEGIN:VEVENT
DTSTART:20170924T190000Z
DTEND:20170924T210000Z
X-MICROSOFT-CDO-ALLDAYEVENT:FALSE
SUMMARY:On the Run with Riley's Army 5K/ 1K Fun Run
DESCRIPTION:We are excited to announce it's time to start planning our 6th Annual On the Run with Riley's Army 5K & Fun Run event! The 6th Annual "On the Run" with Riley's Army 5k Run and 1K Mile Fun Walk sponsored by Winterville Parks & Rec on Sunday\, September 24th 2017 at Winterville Recreation Park.\n\n\n\n\n\nEvent Info:\n\nThis year's race will be held on Sunday September 24th 2017 with the 5K starting at 3:00 PM & the 1K Fun Run starting at approximately 3:15 PM this time.\n\n\n\nWe are changing the 1 Mile Fun Run to a 1K (0.7 mile) Walk/ Parade. We will start this shortly after the 5K race and have the participants "parade" different ways to go gold! We believe this will add a wonderful aspect to our event all those wanting to participate!\n\n\n\nWe will continue our tradition of "Field Day". We are expecting a huge family friendly afternoon of bouncy houses\, snow cone truck\, vendors\, food\, DJ\, and more. We would love a huge crowd to cheer all our runners over the finish line. TO BE A VENDOR- contact Kimber Stone at 919-608-8421.\n\n\n\nRegistration:\n\nwww.runtheeast.com to register\n\n5K- $25 before Sept 2nd- guarantees you a race shirt and personalized bib\, $30 after Sept 2nd\n\n1K- $10 before Sept 2nd- guarantees you a race shirt and personalized bib\, $15 after Sept 2nd\n\n \n\nTeam Discount- We would be honored to have your team join us for the run! A team is a group of 10 or more runners. They can register at a discounted price of $20 per person. \n\n \n\nIn order to receive the Discounted TEAM Price your team may either:\n\nContact Kimber Stone at kimber@rileysarmy.com for your unique coupon code that you may give to your teammates to register online at runtheeast.com and pay online or through an invoice mailed to your attention.\n\nOR\n\nsend in your team completed registration forms & payment to (any incomplete information on this form will result in being ineligible for awards):\n\nKimber Stone\n\n4345 Lagan Circle\n\nWinterville NC 28590\n\n \n\nChecks made out to Riley's Army\n\n \n\nAfter Sept 2nd - the new team discounted price will be $25 and we are not able to guarantee race shirt sizes and personalize bibs.\n\nSponsorships\, prizes for runners\, and items for goody bag table are needed.  Please contact Kimber Stone for more info. \n\n \n\nSeptember is Pediatric Cancer Awareness month and we hope to end it with a huge race and community event that lends support to our children and their families as they battle cancer.\n\n \n\nWe do hope you are able to join us this year! \n\nThank you! We look forward to seeing you in September!
X-ALT-DESC;FMTTYPE=text/html:<div>We are excited to announce it&#39\;s time to start planning our 6th Annual On the Run with Riley&#39\;s Army 5K &amp\; Fun Run event! The 6th Annual &quot\;On the Run&quot\; with Riley&#39\;s Army 5k Run and 1K Mile Fun Walk sponsored by Winterville Parks &amp\; Rec on Sunday\, September 24th 2017 at Winterville Recreation Park.<br />\n<br />\n<br />\nEvent Info:<br />\nThis year&#39\;s race will be held on Sunday September 24th 2017 with the 5K starting at 3:00 PM &amp\; the 1K Fun Run starting at approximately 3:15 PM this time.<br />\n<br />\nWe are changing the 1 Mile Fun Run to a 1K (0.7 mile) Walk/ Parade. We will start this shortly&nbsp\;after the 5K race and have the participants &quot\;parade&quot\; different ways to go gold! We believe this will add a wonderful aspect to our event all those wanting to participate!<br />\n<br />\nWe will continue our tradition of &quot\;Field Day&quot\;. We are expecting a huge family friendly afternoon of bouncy houses\, snow cone truck\, vendors\, food\, DJ\, and more. We would love a huge crowd to cheer all our runners over the finish line. TO BE A VENDOR- contact Kimber Stone at 919-608-8421.<br />\n<br />\nRegistration:<br />\n<a href="http://www.runtheeast.com/" style="color:blue\;text-decoration:underline\;" target="_blank">www.runtheeast.com</a> to register<br />\n5K- $25 before Sept 2nd- guarantees you a race shirt and personalized bib\, $30 after Sept 2nd<br />\n1K- $10 before Sept 2nd- guarantees you a race shirt and personalized bib\, $15 after Sept 2nd</div>\n\n<div>&nbsp\;</div>\n\n<div>Team Discount- We would be honored to have your team join us for the run! A team is a group of 10 or more runners. They can register at a discounted price of $20 per person.&nbsp\;</div>\n\n<div>&nbsp\;</div>\n\n<div>In order to receive the Discounted TEAM Price your team may either:<br />\nContact Kimber Stone at kimber@rileysarmy.com for your unique coupon code that you may give to your teammates to register online at runtheeast.com and pay online or through an invoice mailed to your attention.<br />\nOR<br />\nsend in your team completed registration forms &amp\; payment to (any incomplete information on this form will result in being ineligible for awards):<br />\nKimber Stone<br />\n4345 Lagan Circle<br />\nWinterville NC 28590</div>\n\n<div>&nbsp\;</div>\n\n<div>Checks made out to Riley&#39\;s Army</div>\n\n<div>&nbsp\;</div>\n\n<div>After Sept 2nd - the new team discounted price will be $25 and we are not able to guarantee race shirt sizes and personalize bibs.</div>\n\n<div>Sponsorships\, prizes for runners\, and items for goody bag table are needed.&nbsp\; Please contact Kimber Stone for more info.&nbsp\;</div>\n\n<div>&nbsp\;</div>\n\n<div>September is Pediatric Cancer Awareness month and we hope to end it with a huge race and community event that lends support to our children and their families as they battle cancer.</div>\n\n<div>&nbsp\;</div>\n\n<div>We do hope you are able to join us this year!&nbsp\;<br />\nThank you! We look forward to seeing you in September!</div>\n\n<div>&nbsp\;</div>\n
LOCATION:Winterville Parks and Rec Ball Field
UID:e.840.8636
SEQUENCE:3
DTSTAMP:20260423T092817Z
URL:https://business.greenvillenc.org/events/details/on-the-run-with-riley-s-army-5k-1k-fun-run-8636
END:VEVENT

END:VCALENDAR
