BEGIN:VCALENDAR
VERSION:2.0
PRODID:-//ChamberMaster//Event Calendar 2.0//EN
METHOD:PUBLISH
X-PUBLISHED-TTL:P3D
REFRESH-INTERVAL:P3D
CALSCALE:GREGORIAN
BEGIN:VEVENT
DTSTART:20180930T190000Z
DTEND:20180930T210000Z
X-MICROSOFT-CDO-ALLDAYEVENT:FALSE
SUMMARY:On the Run with Riley's Army 5K/1K Fun Run
DESCRIPTION:Join us Sunday Sept 30th 2018 for the 7th Annual On The Run with Riley's Army 5K & 1K Fun Run/Walk to help celebrate pediatric cancer awareness month. Riley's Army mission is to support children with cancer and their families of Eastern NC. Visit our website at www.rileysarmy.com to learn more about us.\n\nProceeds and donations from the race will go directly to Riley's Army programs and services for the children and their families.  Contact Kimber Stone at 919-608-8421 for sponsorship information or vendor information. \n\nRace Highlights:  Register at www.runtheeast.com\n\n\n\nEvent Features 5K Run on USATF-Certified Race Course & a 1K Fun Run/ Walk. This is a family oriented event.\n\nFees:\n\n5K: $25 (by 9/2)\, $30 (9/3 and after)\n\n1K untimed: $10 (by 9/2)\, $15 (9/3 and after)\n\n1K times: $15 (by 9/2)\, $20 (9/3 and after)\n\nT-shirt included for 5K & 1K entries by 9/2. Entry fees are non-refundable.\n\nTeam Discounts/ Club Running Groups- Groups of 10 or more can register together to receive a $5 discount per person (by 9/2). To receive discount\, all members must register online together.\n\nPacket Pickup/Registration:\n\nRace day- 1:30- 2:30 PM on race day.
X-ALT-DESC;FMTTYPE=text/html:&nbsp\;\n<p style="margin-left:0in\; margin-right:0in"><span style="color:black\; font-family:calibri\,sans-serif\; font-size:11pt">Join us Sunday Sept 30th 2018 for the 7th Annual On The Run with Riley&rsquo\;s Army 5K &amp\; 1K Fun Run/Walk to help celebrate pediatric cancer awareness month. Riley&rsquo\;s Army mission is to support children with cancer and their families of Eastern NC. Visit our website at www.rileysarmy.com to learn more about us.</span></p>\n\n<p style="margin-left:0in\; margin-right:0in"><span style="color:black\; font-family:calibri\,sans-serif\; font-size:11pt">Proceeds and donations from the race will go directly to Riley&rsquo\;s Army programs and services for the children and their families.&nbsp\; Contact Kimber Stone at 919-608-8421 for sponsorship information or vendor information.&nbsp\;</span></p>\n\n<p><span style="color:black\; font-family:calibri\,sans-serif\; font-size:11pt">Race Highlights:&nbsp\; Register at <a href="http://www.runtheeast.com/">www.runtheeast.com</a></span></p>\n\n<p><br />\n<span style="color:black\; font-family:calibri\,sans-serif\; font-size:11pt">Event Features 5K Run on USATF-Certified Race Course &amp\; a 1K&nbsp\;Fun Run/ Walk. This is a family oriented event.</span></p>\n\n<p><span style="color:black\; font-family:calibri\,sans-serif\; font-size:11pt">Fees:<br />\n5K: $25 (by 9/2)\, $30 (9/3 and after)</span></p>\n\n<p style="margin-left:0in\; margin-right:0in"><span style="color:black\; font-family:calibri\,sans-serif\; font-size:11pt">1K untimed: $10 (by 9/2)\, $15 (9/3 and after)</span></p>\n\n<p style="margin-left:0in\; margin-right:0in"><span style="color:black\; font-family:calibri\,sans-serif\; font-size:11pt">1K times: $15 (by 9/2)\, $20 (9/3 and after)</span></p>\n\n<p style="margin-left:0in\; margin-right:0in"><span style="color:black\; font-family:calibri\,sans-serif\; font-size:11pt">T-shirt included for 5K &amp\; 1K entries by 9/2. Entry fees are non-refundable.</span></p>\n\n<p style="margin-left:0in\; margin-right:0in"><span style="color:black\; font-family:calibri\,sans-serif\; font-size:11pt">Team Discounts/ Club Running Groups- Groups of 10 or more can register together to receive a $5 discount per person (by 9/2). To receive discount\, all members must register online together.</span></p>\n\n<p><span style="color:black\; font-family:calibri\,sans-serif\; font-size:11pt">Packet Pickup/Registration:<br />\nRace day- 1:30- 2:30 PM on race day.</span></p>\n\n<p>&nbsp\;</p>\n
LOCATION:Winterville Park and Rec Ball Fields\, Winterville NC
UID:e.840.8891
SEQUENCE:3
DTSTAMP:20260421T031825Z
URL:https://business.greenvillenc.org/events/details/on-the-run-with-riley-s-army-5k-1k-fun-run-09-30-2018-8891
END:VEVENT

END:VCALENDAR
