BEGIN:VCALENDAR
VERSION:2.0
PRODID:-//ChamberMaster//Event Calendar 2.0//EN
METHOD:PUBLISH
X-PUBLISHED-TTL:P3D
REFRESH-INTERVAL:P3D
CALSCALE:GREGORIAN
BEGIN:VEVENT
DTSTART:20190929T180000Z
DTEND:20190929T220000Z
X-MICROSOFT-CDO-ALLDAYEVENT:FALSE
SUMMARY:On The Run with Riley's Army
DESCRIPTION:https://runsignup.com/Race/NC/Winterville/OntheRunwithRileysArmy\n\nJoin us for the 8th Annual On The Run with Riley's Army 5K & 1K Fun Run/Walk to help celebrate pediatric cancer awareness month. Riley's Army mission is to support children with cancer and their families of Eastern NC. Visit our website at www.rileysarmy.com to learn more about us. Or contact Kim Osborne at 252-481-4471\n\n\n\nProceeds and donations from the race will go directly to Riley's Army programs and services for the children and their families.\n\n\n\nRace Highlights:\n\nEvent Features 5K Run on USATF-Certified Race Course & a 1K Fun Run/ Walk. This is a family oriented event.
X-ALT-DESC;FMTTYPE=text/html:<a href="https://runsignup.com/Race/NC/Winterville/OntheRunwithRileysArmy?fbclid=IwAR3Eu4S3Tqg3ZjKUyySEo1DZBznN7p5mPlNqWZK4LFSN0dUEce_bOHNdCdA" rel="nofollow noopener" style="color: rgb(56\, 88\, 152)\; cursor: pointer\; text-decoration-line: none\; font-family: Helvetica\, Arial\, sans-serif\; font-size: 14px\; white-space: pre-wrap\;" target="_blank">https://runsignup.com/Race/NC/Winterville/OntheRunwithRileysArmy</a><br />\n<span style="color:rgb(29\, 33\, 41)\; font-family:helvetica\,arial\,sans-serif\; font-size:14px">Join us for the 8th Annual On The Run with Riley&rsquo\;s Army 5K &amp\; 1K Fun Run/Walk to help celebrate pediatric cancer awareness month. Riley&rsquo\;s Army mission is to support children with cancer and their families of Eastern NC. Visit our website at </span><a href="https://l.facebook.com/l.php?u=http%3A%2F%2Fwww.rileysarmy.com%2F%3Ffbclid%3DIwAR2Zg0sz7upgdDFNOm1SXD9qly1CaLQUW1_95oECankugY6irjpoKAnflPI&amp\;h=AT1DBcfRPwguVyoPVZ7fqdq310MZcZa3FrG592seCYfh6VHOXZ4DpiINQacFGXsEDwGaUGYqrBKKthAjVVPrjXH78pnX7Ncp7G7i62Of6mbEzPm3O0vJtFtJw0qK-_dl" rel="nofollow noopener" style="color: rgb(56\, 88\, 152)\; cursor: pointer\; text-decoration-line: none\; font-family: Helvetica\, Arial\, sans-serif\; font-size: 14px\; white-space: pre-wrap\;" target="_blank">www.rileysarmy.com</a><span style="color:rgb(29\, 33\, 41)\; font-family:helvetica\,arial\,sans-serif\; font-size:14px"> to learn more about us. Or contact Kim Osborne at 252-481-4471</span><br />\n<br />\n<span style="color:rgb(29\, 33\, 41)\; font-family:helvetica\,arial\,sans-serif\; font-size:14px">Proceeds and donations from the race will go directly to Riley&rsquo\;s Army programs and services for the children and their families.</span><br />\n<br />\n<strong><span style="color:rgb(29\, 33\, 41)\; font-family:helvetica\,arial\,sans-serif\; font-size:14px">Race Highlights:</span></strong><br />\n<span style="color:rgb(29\, 33\, 41)\; font-family:helvetica\,arial\,sans-serif\; font-size:14px">Event Features 5K Run on USATF-Certified Race Course &amp\; a 1K Fun Run/ Walk. This is a family oriented event.</span>
LOCATION:332 Sylvania Street Winterville\, NC US 28590
UID:e.840.10367
SEQUENCE:3
DTSTAMP:20260420T120826Z
URL:https://business.greenvillenc.org/events/details/on-the-run-with-riley-s-army-10367
END:VEVENT

END:VCALENDAR
