BEGIN:VCALENDAR
VERSION:2.0
PRODID:-//ChamberMaster//Event Calendar 2.0//EN
METHOD:PUBLISH
X-PUBLISHED-TTL:P3D
REFRESH-INTERVAL:P3D
CALSCALE:GREGORIAN
BEGIN:VEVENT
DTSTART:20190928T130000Z
DTEND:20190928T180000Z
X-MICROSOFT-CDO-ALLDAYEVENT:FALSE
SUMMARY:4th Annual Oktoberfest
DESCRIPTION:Oktoberfest\n\nSeptember 28th\, 2019\n\n9am - 2pm\n\n4551 County Home Road\n\n\n\n$15 food tickets can be purchased at the COA in advance and at the event. All proceeds benefit the home delivered meals program. \n\n\n\nSign up for Cornhole Tournament by visiting www.greenvillejaycees.com\n\nSingle Participant $5 | Double $10\n\nCall 252-752-1717 for more information
X-ALT-DESC;FMTTYPE=text/html:Oktoberfest<br />\nSeptember 28th\, 2019<br />\n9am - 2pm<br />\n4551 County Home Road<br />\n<br />\n$15 food tickets can be purchased at the COA in advance and at the event. All proceeds benefit the home delivered meals program.&nbsp\;<br />\n<br />\nSign up for Cornhole Tournament by visiting www.greenvillejaycees.com<br />\nSingle Participant $5 | Double $10<br />\nCall 252-752-1717 for more information
LOCATION:4551 County Home Road
UID:e.840.10785
SEQUENCE:3
DTSTAMP:20260420T104447Z
URL:https://business.greenvillenc.org/events/details/oktoberfest-10785
END:VEVENT

END:VCALENDAR
