BEGIN:VCALENDAR
VERSION:2.0
PRODID:-//ChamberMaster//Event Calendar 2.0//EN
METHOD:PUBLISH
X-PUBLISHED-TTL:P3D
REFRESH-INTERVAL:P3D
CALSCALE:GREGORIAN
BEGIN:VEVENT
DTSTART:20200720T220000Z
DTEND:20200720T230000Z
X-MICROSOFT-CDO-ALLDAYEVENT:FALSE
SUMMARY:Nutrition Night- Mastering your Microbiome
DESCRIPTION:"Mastering your Microbiome"\n\nJoin our Certified Nutritionist\, Noel to learn more about the diverse community of bacteria that reside in our bodies and have a major impact on our health. Topics discussed will cover the impact of antibiotics on the gut microbiome\, why & what type of probiotics are useful\, how to eat to support a healthy microbiome and more!\n\n\n\nJoin us IN PERSON or ONLINE on July 20th at 6pm.\n\nRegister by visiting this link \n\nhttps://www.nutritionwithnoel.com/videoevents or by calling our office at (252)689-8729
X-ALT-DESC;FMTTYPE=text/html:<strong><span style="font-size:16px"><span style="color:rgb(29\, 33\, 41)\; font-family:helvetica\,arial\,sans-serif">&quot\;Mastering your Microbiome&quot\;</span></span></strong><br />\n<span style="color:rgb(29\, 33\, 41)\; font-family:helvetica\,arial\,sans-serif\; font-size:14px">Join our <em>Certified Nutritionist</em>\, Noel to learn more about the diverse community of bacteria that reside in our bodies and have a major impact on our health. Topics discussed will cover the impact of antibiotics on the gut microbiome\, why &amp\; what type of probiotics are useful\, how to eat to support a healthy microbiome and more!</span><br />\n<br />\n<span style="color:rgb(29\, 33\, 41)\; font-family:helvetica\,arial\,sans-serif\; font-size:14px">Join us IN PERSON or ONLINE on July 20th at 6pm.</span><br />\n<span style="color:rgb(29\, 33\, 41)\; font-family:helvetica\,arial\,sans-serif\; font-size:14px">Register by visiting this link </span><br />\n<a href="https://www.nutritionwithnoel.com/videoevents?fbclid=IwAR2DFtpXmYeVm2Ex0cyT9A7kVUC0KvnkPpI-avTBULSDGVdCxs76E1YfV0E" rel="nofollow noopener" style="color: rgb(56\, 88\, 152)\; cursor: pointer\; text-decoration-line: none\; font-family: Helvetica\, Arial\, sans-serif\; font-size: 14px\; white-space: pre-wrap\;" target="_blank">https://www.nutritionwithnoel.com/videoevents</a><span style="color:rgb(29\, 33\, 41)\; font-family:helvetica\,arial\,sans-serif\; font-size:14px"> or by calling our office at (252)689-8729</span>
LOCATION:Advantage Therapy Solutions: 212 E. Arlington Blvd\, Greenville NC 27858
UID:e.840.11429
SEQUENCE:3
DTSTAMP:20260419T193050Z
URL:https://business.greenvillenc.org/events/details/nutrition-night-mastering-your-microbiome-11429
END:VEVENT

END:VCALENDAR
