BEGIN:VCALENDAR
VERSION:2.0
PRODID:-//ChamberMaster//Event Calendar 2.0//EN
METHOD:PUBLISH
X-PUBLISHED-TTL:P3D
REFRESH-INTERVAL:P3D
CALSCALE:GREGORIAN
BEGIN:VEVENT
DTSTART:20190718T040000Z
DTEND:20190731T040000Z
X-MICROSOFT-CDO-ALLDAYEVENT:FALSE
SUMMARY:Now Hiring
DESCRIPTION:We are now looking for part-time sales associates! E-Mail your resume and availability to votrebtq@gmail.com
X-ALT-DESC;FMTTYPE=text/html:We are now looking for part-time sales associates! E-Mail your resume and availability to votrebtq@gmail.com
LOCATION:
UID:e.840.10341
SEQUENCE:3
DTSTAMP:20260420T145554Z
URL:https://business.greenvillenc.org/events/details/now-hiring-10341
END:VEVENT

END:VCALENDAR
