BEGIN:VCALENDAR
VERSION:2.0
PRODID:-//ChamberMaster//Event Calendar 2.0//EN
METHOD:PUBLISH
X-PUBLISHED-TTL:P3D
REFRESH-INTERVAL:P3D
CALSCALE:GREGORIAN
BEGIN:VEVENT
DTSTART:20160513T000000Z
DTEND:20160513T030000Z
X-MICROSOFT-CDO-ALLDAYEVENT:FALSE
SUMMARY:Noelle Smith AT Ribeye's
DESCRIPTION:Noelle Smith is an amazingly talented 16 year old who is currently in the process of writing and recording her first album.  She plays everything from country to current hits to her originals.
X-ALT-DESC;FMTTYPE=text/html:Noelle Smith is an amazingly talented 16 year old who is currently in the process of writing and recording her first album.&nbsp\; She plays everything from country to current hits to her originals.&nbsp\;
LOCATION:Ribeye's 1909-A Firetower Rd
UID:e.840.2466
SEQUENCE:3
DTSTAMP:20260424T083426Z
URL:https://business.greenvillenc.org/events/details/noelle-smith-at-ribeye-s-05-12-2016-2466
END:VEVENT

END:VCALENDAR
