BEGIN:VCALENDAR
VERSION:2.0
PRODID:-//ChamberMaster//Event Calendar 2.0//EN
METHOD:PUBLISH
X-PUBLISHED-TTL:P3D
REFRESH-INTERVAL:P3D
CALSCALE:GREGORIAN
BEGIN:VEVENT
DTSTART:20151115T010000Z
DTEND:20151115T040000Z
X-MICROSOFT-CDO-ALLDAYEVENT:FALSE
SUMMARY:Night Out with the Main Event Band
DESCRIPTION:The Pitt County Coalition on Substance Abuse is proud to host a night out with Main Event Band. The band will be playing all your favorite tunes for you to dance the night away while raising money to further the coalition's work on reducing underage drinking\, reducing drug use\, and educating the community in Pitt County. \n\nAbout the Main Event Band\n\nThe Main Event Band is the ultimate party band performing R&B\, Soul\, Beach\, Country\, and Funk. Their performances also include music styles from the 80's and 90's as well as your favorite songs of today. Featuring top-notch vocals\, a tight rhythm section\, and one of the best horn sections around\, The Main Event Band offers a quality performance that is hard to rival.\n\nAbout PCCSA\n\nThe Pitt County Coalition on Substance Abuse is a 501(c)3 non-profit dedicated to bringing about a community where youth reject substance use\, adults utilize low-risk choices regarding substance use\, and treatment services are available to those in need. For more information about PCCSA\, please visit: www.pccsa.org.
X-ALT-DESC;FMTTYPE=text/html:<p><span style="font-family: arial\,sans-serif\;">The Pitt County Coalition on Substance Abuse is proud to host a night out with Main Event Band. The band will be playing all your favorite tunes for you to dance the night away while raising money to further the coalition&#39\;s work on reducing underage drinking\, reducing drug use\, and educating the community in Pitt County. </span></p>\n\n<p><span style="font-family: arial\,sans-serif\;">About the Main Event Band</span></p>\n\n<p><span style="font-family: arial\,sans-serif\;">The Main Event Band is the ultimate party band performing R&amp\;B\, Soul\, Beach\, Country\, and Funk. Their performances also include music styles from the 80&#39\;s and 90&#39\;s as well as your favorite songs of today. Featuring top-notch vocals\, a tight rhythm section\, and one of the best horn sections around\, The Main Event Band offers a quality performance that is hard to rival.</span></p>\n\n<p><span style="font-family: arial\,sans-serif\;">About PCCSA</span></p>\n\n<p><span style="font-family: arial\,sans-serif\;">The Pitt County Coalition on Substance Abuse is a 501(c)3 non-profit dedicated to bringing about a community where youth reject substance use\, adults utilize low-risk choices regarding substance use\, and treatment services are available to those in need. For more information about PCCSA\, please visit: <a href="http://www.pccsa.org/" rel="nofollow">www.pccsa.org</a>. </span></p>\n
LOCATION:Holiday Inn\, Greenville NC
UID:e.840.1948
SEQUENCE:3
DTSTAMP:20260424T181708Z
URL:https://business.greenvillenc.org/events/details/night-out-with-the-main-event-band-11-14-2015-1948
END:VEVENT

END:VCALENDAR
