BEGIN:VCALENDAR
VERSION:2.0
PRODID:-//ChamberMaster//Event Calendar 2.0//EN
METHOD:PUBLISH
X-PUBLISHED-TTL:P3D
REFRESH-INTERVAL:P3D
CALSCALE:GREGORIAN
BEGIN:VEVENT
DTSTART:20151231T220000Z
DTEND:20160101T060000Z
X-MICROSOFT-CDO-ALLDAYEVENT:FALSE
SUMMARY:New Years Eve Party at Wasabi 88
DESCRIPTION:Wasabi 88 is holding its annual New Years Eve party! Karaoke/ Lip Sync Battle starting at 7:00. Compete and win prizes!  Reservations are pouring in\, so make one today and bring in the New Year 88 style.
X-ALT-DESC;FMTTYPE=text/html:Wasabi 88 is holding its annual New Years Eve party! Karaoke/ Lip Sync Battle starting at 7:00. Compete and&nbsp\;win prizes! &nbsp\;Reservations are pouring in\, so make one today and bring in the New Year 88&nbsp\;style.
LOCATION:Wasabi 88-1605 East Fire Tower Road Greenville\, NC
UID:e.840.2450
SEQUENCE:3
DTSTAMP:20260424T164425Z
URL:https://business.greenvillenc.org/events/details/new-years-eve-party-at-wasabi-88-12-31-2015-2450
END:VEVENT

END:VCALENDAR
