BEGIN:VCALENDAR
VERSION:2.0
PRODID:-//ChamberMaster//Event Calendar 2.0//EN
METHOD:PUBLISH
X-PUBLISHED-TTL:P3D
REFRESH-INTERVAL:P3D
CALSCALE:GREGORIAN
BEGIN:VEVENT
DTSTART:20180605T130000Z
DTEND:20180605T180000Z
X-MICROSOFT-CDO-ALLDAYEVENT:FALSE
SUMMARY:NC4ME Hiring Event
DESCRIPTION:I wanted to inform you about our NC4ME Hiring Event which is scheduled for June 5\, with a "Meet and Greet" on June 4.  It is specifically for Veterans\, Transition Military\, Spouses\, National Guard and Reserves.\n\n \n\nNC4ME started as a governor's initiative back in 2015.  It is a public/private partnership in which NC Commerce has stepped in to plan hiring events.  These events are a step up from a typical job fair.  They are demand driven\, meaning we focus on the needs of the registered employers.  These employers submit open position descriptions they are actively hiring for.  We then match registered candidates to these positions based on their registration information and the resumes they provide.  Once the matching process is complete interviews are scheduled and conducted the day of the event.\n\n \n\nIf you are interested to participate please go to the following link:\n\nhttp://www.nc4me.org/he-greenville-june-2018.html\n\n \n\nThank you for your support.
X-ALT-DESC;FMTTYPE=text/html:<p>I wanted to inform you about our NC4ME Hiring Event which is scheduled for June 5\, with a &ldquo\;Meet and Greet&rdquo\; on June 4. &nbsp\;It is specifically for Veterans\, Transition Military\, Spouses\, National Guard and Reserves.</p>\n\n<p>&nbsp\;</p>\n\n<p>NC4ME started as a governor&rsquo\;s initiative back in 2015.&nbsp\; It is a public/private partnership in which NC Commerce has stepped in to plan hiring events.&nbsp\; These events are a step up from a typical job fair.&nbsp\; They are demand driven\, meaning we focus on the needs of the registered employers.&nbsp\; These employers submit open position descriptions they are actively hiring for.&nbsp\; We then match registered candidates to these positions based on their registration information and the resumes they provide.&nbsp\; <strong><u>Once the matching process is complete interviews are scheduled and conducted the day of the event.</u></strong></p>\n\n<p>&nbsp\;</p>\n\n<p>If you are interested to participate please go to the following link:</p>\n\n<p><a href="http://www.nc4me.org/he-greenville-june-2018.html">http://www.nc4me.org/he-greenville-june-2018.html</a></p>\n\n<p>&nbsp\;</p>\n\n<p>Thank you for your support.</p>\n
LOCATION:Greenville Convention Center 303 SW Greenville Blvd. Greenville\, NC 27834
UID:e.840.8797
SEQUENCE:3
DTSTAMP:20260421T085047Z
URL:https://business.greenvillenc.org/events/details/nc4me-hiring-event-8797
END:VEVENT

END:VCALENDAR
