BEGIN:VCALENDAR
VERSION:2.0
PRODID:-//ChamberMaster//Event Calendar 2.0//EN
METHOD:PUBLISH
X-PUBLISHED-TTL:P3D
REFRESH-INTERVAL:P3D
CALSCALE:GREGORIAN
BEGIN:VEVENT
DTSTART:20181030T120000Z
DTEND:20181030T130000Z
X-MICROSOFT-CDO-ALLDAYEVENT:FALSE
SUMMARY:NC MedAssist Women In Health Kickoff Breakfast
DESCRIPTION:Join us for a kickoff breakfast on October 30\, 2018 to learn how you can get involved with other community-minded individuals and help shape the inaugural Women In Health benefit of the Greater Pitt County area\, to be held Spring 2019. We hope to see you there.\n\nRSVP by October 26\, 2018\n\nKindly reply to Kayla Collins at kcollins@medassist.org or online at www.medassist.org/womeninhealthgpc\n\nNC MedAssist is a statewide charitable pharmacy the provides access to lifesaving prescription medications to poor\, vulnerable\, and uninsured North Carolina residents.
X-ALT-DESC;FMTTYPE=text/html:Join us for a kickoff breakfast on October 30\, 2018 to learn how you can get involved with other community-minded individuals and help shape the inaugural Women In Health benefit of the Greater Pitt County area\, to be held Spring 2019. We hope to see you there.<br />\nRSVP by October 26\, 2018<br />\nKindly reply to Kayla Collins at kcollins@medassist.org or online at www.medassist.org/womeninhealthgpc<br />\nNC MedAssist is a statewide charitable pharmacy the provides access to lifesaving prescription medications to poor\, vulnerable\, and uninsured North Carolina residents.
LOCATION:Monroe AHEC Conference Center 2000 Venture Tower Drive Greenville\, NC 27834
UID:e.840.8934
SEQUENCE:3
DTSTAMP:20260421T025642Z
URL:https://business.greenvillenc.org/events/details/nc-medassist-women-in-health-kickoff-breakfast-8934
END:VEVENT

END:VCALENDAR
