BEGIN:VCALENDAR
VERSION:2.0
PRODID:-//ChamberMaster//Event Calendar 2.0//EN
METHOD:PUBLISH
X-PUBLISHED-TTL:P3D
REFRESH-INTERVAL:P3D
CALSCALE:GREGORIAN
BEGIN:VEVENT
DTSTART:20170415T130000Z
DTEND:20170415T210000Z
X-MICROSOFT-CDO-ALLDAYEVENT:FALSE
SUMMARY:Nature Scavenger Hunt
DESCRIPTION:An NC Science Festival event! Visit the park on Saturday\, April 15 for a one-of-a-kind "Nature Scavenger Hunt". This event is FREE with paid park admission or membership.  Use your sense of touch\, smell\, hearing\, and sight to complete a fun Nature Scavenger Hunt while touring the park. Show your completed Scavenger Hunt in the Visitor Center for a prize!
X-ALT-DESC;FMTTYPE=text/html:<span style="font-family:times new roman\,serif\; font-size:12pt">An NC Science Festival event! Visit the park on Saturday\, April 15 for a one-of-a-kind &ldquo\;Nature Scavenger Hunt&rdquo\;. This event is FREE with paid park admission or membership.&nbsp\; Use your sense of touch\, smell\, hearing\, and sight to complete a fun Nature Scavenger Hunt while touring the park. Show your completed Scavenger Hunt in the Visitor Center for a prize!</span>
LOCATION:500 Sylvan Heights Park Way Scotland Neck\, NC 27874
UID:e.840.8078
SEQUENCE:3
DTSTAMP:20260423T164548Z
URL:https://business.greenvillenc.org/events/details/nature-scavenger-hunt-8078
END:VEVENT

END:VCALENDAR
