BEGIN:VCALENDAR
VERSION:2.0
PRODID:-//ChamberMaster//Event Calendar 2.0//EN
METHOD:PUBLISH
X-PUBLISHED-TTL:P3D
REFRESH-INTERVAL:P3D
CALSCALE:GREGORIAN
BEGIN:VEVENT
DTSTART:20170203T010000Z
DTEND:20170203T024500Z
X-MICROSOFT-CDO-ALLDAYEVENT:FALSE
SUMMARY:National Symphony Orchestra of Ukraine
DESCRIPTION:ECU's S. Rudolph Alexander Performing Arts Series presents the National Symphony Orchestra of Ukraine. With more than 100 recordings to their credit since 1993\, the NSOU is considered to be one of the finest symphony orchestras in Europe. Prokofiev\, Shostakovich and Khatchaturian entrusted this ensemble with their premier performances\, and soloists have included Rubinstein\, Stern\, Rostropovich and Jose Carreras. ECU's program includes the Rachmaninov Symphony No. 3\,  Prokofiev's Piano Concerto No. 3 featuring pianist Alexei Grynyuk and Stravinsky's "Suite" from Firebird. Individual tickets for this event are available on December 16. Sign up for an on-sale alert and special offers on our website.
X-ALT-DESC;FMTTYPE=text/html:<span style="font-family:gotham\; font-size:8.5px">ECU&#39\;s S. Rudolph Alexander Performing Arts Series presents the National Symphony Orchestra of Ukraine. With more than 100 recordings to their credit since 1993\, the NSOU is considered to be one of the finest symphony orchestras in Europe. Prokofiev\, Shostakovich and Khatchaturian entrusted this ensemble with their premier performances\, and soloists have included Rubinstein\, Stern\, Rostropovich and Jose Carreras. ECU&rsquo\;s program includes the Rachmaninov <em>Symphony No. 3</em>\, &nbsp\;</span><span style="font-family:gotham\; font-size:8.5px">Prokofiev&rsquo\;s <em>Piano Concerto No. 3</em>&nbsp\;featuring pianist Alexei Grynyuk and Stravinsky&rsquo\;s &ldquo\;Suite&rdquo\; from <em>Firebird</em>.&nbsp\;</span><span style="font-family:gotham\; font-size:9px">Individual tickets for this event are available on December 16.&nbsp\;Sign up for an on-sale alert and special offers on our website.&nbsp\;</span>
LOCATION:ECU's Wright Auditorium
UID:e.840.2676
SEQUENCE:3
DTSTAMP:20260423T194056Z
URL:https://business.greenvillenc.org/events/details/national-symphony-orchestra-of-ukraine-02-02-2017-2676
END:VEVENT

END:VCALENDAR
