BEGIN:VCALENDAR
VERSION:2.0
PRODID:-//ChamberMaster//Event Calendar 2.0//EN
METHOD:PUBLISH
X-PUBLISHED-TTL:P3D
REFRESH-INTERVAL:P3D
CALSCALE:GREGORIAN
BEGIN:VEVENT
DTSTART:20180801T150000Z
DTEND:20180801T180000Z
X-MICROSOFT-CDO-ALLDAYEVENT:FALSE
SUMMARY:National Milkshake Day with Riley's Army
DESCRIPTION:Aug 1st from 11:00am-2:00pm Chick Fil A in Winterville National Milkshake Day!  Join us for National Milkshake Day- Chick Fil A will donate 20% of all milkshakes sales during this time to Riley's Army.  We will have volunteers on hand to help make them.\nFor More Info
X-ALT-DESC;FMTTYPE=text/html:<p><strong><span style="color:rgb(55\, 55\, 55)\; font-size:12pt">Aug 1<sup>st</sup> from 11:00am-2:00pm Chick Fil A in Winterville National Milkshake Day! </span></strong><span style="color:rgb(55\, 55\, 55)\; font-size:12pt">&nbsp\;Join us for National Milkshake Day- Chick Fil A will donate 20% of all milkshakes sales during this time to Riley&rsquo\;s Army.&nbsp\; We will have volunteers on hand to help make them.</span></p>\n<a href="http://rileysarmy.com/event/national-milkshake-day-with-rileys-army/">For More Info</a>
LOCATION:Chick Fil A in Winterville
UID:e.840.8904
SEQUENCE:3
DTSTAMP:20260421T045950Z
URL:https://business.greenvillenc.org/events/details/national-milkshake-day-with-riley-s-army-8904
END:VEVENT

END:VCALENDAR
