BEGIN:VCALENDAR
VERSION:2.0
PRODID:-//ChamberMaster//Event Calendar 2.0//EN
METHOD:PUBLISH
X-PUBLISHED-TTL:P3D
REFRESH-INTERVAL:P3D
CALSCALE:GREGORIAN
BEGIN:VEVENT
DTSTART;VALUE=DATE:20170501
DTEND;VALUE=DATE:20170601
TRANSP:TRANSPARENT
X-MICROSOFT-CDO-ALLDAYEVENT:TRUE
SUMMARY:National Fitness Month
DESCRIPTION:Regular physical activity is good for everyone's health\, and people of all ages and body types can be physically active. National Fitness Month is a great time to spread the word about the benefits of getting active.\n\n\n\nThe Vidant Wellness Center is offering a FREE Enrollment Fee for the Month of May to get you started!\n\n \n\nFor all new members who join the Ahoskie\, Greenville and Washington locations\, receive and pay no enrollment fee with you become a member at one of our centers. Stop by today and Make Vidant Your Gym!
X-ALT-DESC;FMTTYPE=text/html:<span style="color:#404040"><span style="font-size:11pt">Regular physical activity is good for everyone&rsquo\;s health\, and people of all ages and body types can be physically active. National Fitness Month is a great time to spread the word about the benefits of getting active.</span></span><br />\n<br />\n<span style="color:#FF0000"><em><span style="font-size:11pt">The Vidant Wellness Center is offering a FREE Enrollment Fee for the Month of May to get you started!</span></em></span><br />\n&nbsp\;<br />\n<span style="font-family:calibri\,sans-serif"><span style="font-size:11.0pt">For all new members who join the Ahoskie\, Greenville and Washington locations\, receive and pay no enrollment fee with you become a member at one of our centers. Stop by today and Make Vidant Your Gym!</span></span><br />\n<br />\n<br />\n&nbsp\;
LOCATION:Vidant Wellness Center
UID:e.840.8498
SEQUENCE:3
DTSTAMP:20260423T153051Z
URL:https://business.greenvillenc.org/events/details/national-fitness-month-8498
END:VEVENT

END:VCALENDAR
