BEGIN:VCALENDAR
VERSION:2.0
PRODID:-//ChamberMaster//Event Calendar 2.0//EN
METHOD:PUBLISH
X-PUBLISHED-TTL:P3D
REFRESH-INTERVAL:P3D
CALSCALE:GREGORIAN
BEGIN:VEVENT
DTSTART:20180417T170000Z
DTEND:20180417T190000Z
X-MICROSOFT-CDO-ALLDAYEVENT:FALSE
SUMMARY:National Chill Out Day
DESCRIPTION:Tax season is stressful and exhausting for many people. To help alleviate that stress\, Kona Ice will be giving away free cups of happiness for two hours on tax day!
X-ALT-DESC;FMTTYPE=text/html:Tax season is stressful and exhausting for many people. To help alleviate that stress\, Kona Ice will be giving away free cups of happiness for two hours on tax day!&nbsp\;
LOCATION:Greenville Convention Center
UID:e.840.8744
SEQUENCE:3
DTSTAMP:20260421T101609Z
URL:https://business.greenvillenc.org/events/details/national-chill-out-day-8744
END:VEVENT

END:VCALENDAR
