BEGIN:VCALENDAR
VERSION:2.0
PRODID:-//ChamberMaster//Event Calendar 2.0//EN
METHOD:PUBLISH
X-PUBLISHED-TTL:P3D
REFRESH-INTERVAL:P3D
CALSCALE:GREGORIAN
BEGIN:VEVENT
DTSTART:20200926T230000Z
DTEND:20200927T010000Z
X-MICROSOFT-CDO-ALLDAYEVENT:FALSE
SUMMARY:Mystery Mission-Home Edition
DESCRIPTION:Gather a group of 8-10 at your home for a night of puzzles\, riddles\, games and fun.. Compete for prizes\, virtually\, against other homes while learning more about the important programs of Third Street Education Center
X-ALT-DESC;FMTTYPE=text/html:Gather a group of 8-10 at your home for a night of puzzles\, riddles\, games and fun.. Compete for prizes\, virtually\, against other homes while learning more about the important programs of Third Street Education Center
LOCATION:Host a group at YOUR home!
UID:e.840.11435
SEQUENCE:3
DTSTAMP:20260419T163329Z
URL:https://business.greenvillenc.org/events/details/mystery-mission-home-edition-11435
END:VEVENT

END:VCALENDAR
