BEGIN:VCALENDAR
VERSION:2.0
PRODID:-//ChamberMaster//Event Calendar 2.0//EN
METHOD:PUBLISH
X-PUBLISHED-TTL:P3D
REFRESH-INTERVAL:P3D
CALSCALE:GREGORIAN
BEGIN:VEVENT
DTSTART;VALUE=DATE:20200514
DTEND;VALUE=DATE:20200524
TRANSP:TRANSPARENT
X-MICROSOFT-CDO-ALLDAYEVENT:TRUE
SUMMARY:Muscle Maker Grill supports Cancer Services of Eastern NC
DESCRIPTION:It's easier than ever to support patients and families affected by cancer in Eastern NC!  Simply click on the link and sign up to order a meal\, a meal plan\, smoothies\, and more from our friends at Muscle Maker Grill in Greenville.  Free delivery for orders over $25!  How about sending dinner to someone you love?  Catering lunch or dinner to your team at work?  Sending a tray to our local healthcare heroes?  Cancer Services of Eastern NC will receive 10% of sales that use this link or mentions Cancer Services of Eastern NC when they order.
X-ALT-DESC;FMTTYPE=text/html:<span style="color:#008000"><strong>It&#39\;s easier than ever to support patients and families affected by cancer in Eastern NC!&nbsp\;</strong></span> Simply click on the link and sign up to order a meal\, a meal plan\, smoothies\, and more from our friends at Muscle Maker Grill in Greenville.&nbsp\; Free delivery for orders over $25!&nbsp\; How about sending dinner to someone you love?&nbsp\; Catering lunch or dinner to your team at work?&nbsp\; Sending a tray to our local healthcare heroes?&nbsp\; Cancer Services of Eastern NC will receive 10% of sales that use this link or mentions Cancer Services of Eastern NC when they order.&nbsp\;&nbsp\;
LOCATION:
UID:e.840.11420
SEQUENCE:3
DTSTAMP:20260419T223409Z
URL:https://business.greenvillenc.org/events/details/muscle-maker-grill-supports-cancer-services-of-eastern-nc-11420
END:VEVENT

END:VCALENDAR
