BEGIN:VCALENDAR
VERSION:2.0
PRODID:-//ChamberMaster//Event Calendar 2.0//EN
METHOD:PUBLISH
X-PUBLISHED-TTL:P3D
REFRESH-INTERVAL:P3D
CALSCALE:GREGORIAN
BEGIN:VEVENT
DTSTART:20171119T170000Z
DTEND:20171119T220000Z
X-MICROSOFT-CDO-ALLDAYEVENT:FALSE
SUMMARY:MPPFC's Texas Ho Ho Ho Down
DESCRIPTION:You're invited to celebrate the holidays with the Martin-Pitt Partnership for Children! Join us for our annual Texas Ho Ho Ho Down and enjoy a day of arts and crafts\, festive games\, and photos with Santa and Mrs. Claus. Tickets are $5 per child\, and each child will receive a special gift bag filled with surprises   including a free kids meal from Texas Roadhouse and a certificate for free photo prints from Walgreens for your new Santa photos! In addition\, if you mention the Partnership while eating at Texas Roadhouse that day\, the restaurant will graciously donate a percentage of your bill to us to help fund early childhood education programs in Martin and Pitt counties. For more information and to purchase tickets\, visit www.mppfc.org.
X-ALT-DESC;FMTTYPE=text/html:You&#39\;re invited to celebrate the holidays with the Martin-Pitt Partnership for Children! Join us for our annual Texas Ho Ho Ho Down and enjoy a day of arts and crafts\, festive games\, and photos with Santa and Mrs. Claus. Tickets are $5 per child\, and each child will receive a special gift bag filled with surprises &mdash\; including a free kids meal from Texas Roadhouse and a certificate for free photo prints from Walgreens for your new Santa photos! In addition\, if you mention the Partnership while eating at Texas Roadhouse that day\, the restaurant will graciously donate a percentage of your bill to us to help fund early childhood education programs in Martin and Pitt counties.&nbsp\;For more information and to purchase tickets\, visit www.mppfc.org.
LOCATION:Texas Roadhouse 720 Greenville Boulevard Southwest Greenville\, NC 27834
UID:e.840.8679
SEQUENCE:3
DTSTAMP:20260423T062630Z
URL:https://business.greenvillenc.org/events/details/mppfc-s-texas-ho-ho-ho-down-8679
END:VEVENT

END:VCALENDAR
