BEGIN:VCALENDAR
VERSION:2.0
PRODID:-//ChamberMaster//Event Calendar 2.0//EN
METHOD:PUBLISH
X-PUBLISHED-TTL:P3D
REFRESH-INTERVAL:P3D
CALSCALE:GREGORIAN
BEGIN:VEVENT
DTSTART:20140913T120000Z
DTEND:20140913T160000Z
X-MICROSOFT-CDO-ALLDAYEVENT:FALSE
SUMMARY:Moving Sale at Odd by Nature\, Inc. Greenville\, NC location
DESCRIPTION:Moving Sale at the Greenville\, NC location including shelving\, household goods\, television set\, furniture\, aquariums\, supplies\, vintage items\, construction materials\, etc.\, etc.\, etc.
X-ALT-DESC;FMTTYPE=text/html:Moving Sale at the Greenville\, NC location including shelving\, household goods\, television set\, furniture\, aquariums\, supplies\, vintage items\, construction materials\, etc.\, etc.\, etc.
LOCATION:105B Trade Street\, Greenville\, NC 27834
UID:e.840.555
SEQUENCE:3
DTSTAMP:20260425T171639Z
URL:https://business.greenvillenc.org/events/details/moving-sale-at-odd-by-nature-inc-greenville-nc-location-09-13-2014-555
END:VEVENT

END:VCALENDAR
