BEGIN:VCALENDAR
VERSION:2.0
PRODID:-//ChamberMaster//Event Calendar 2.0//EN
METHOD:PUBLISH
X-PUBLISHED-TTL:P3D
REFRESH-INTERVAL:P3D
CALSCALE:GREGORIAN
BEGIN:VEVENT
DTSTART:20190424T170000Z
DTEND:20190424T210000Z
X-MICROSOFT-CDO-ALLDAYEVENT:FALSE
SUMMARY:Movie Night by Country Inn and Suites by Radisson
DESCRIPTION:Movie Night\, Movie Night\, yes it's movie night featuring: Disney's new Beauty and the Beast movie! It is on Wednesday\, April 24th at The Country Inn and Suites by Radisson in Winterville\, NC.\n\n\n\nThere will be two showings:\n\n1 pm to 3 pm and 3 pm to 5 pm\n\n\n\nAges 6 through 10\n\n\n\nNote: Please note that children are not able to be dropped off. Parents must be responsible for all children for the entire time of event. Snacks will be provided if your child has allergies\, feel free to provide their snack. Country Inn and Suites are not in any form responsible for your child. Please arrive 15 minutes early to register your child.\n\n\n\nFor more information\, please contact:\n\nMelissa Clark\, General Manager\n\n(252) 355-0070
X-ALT-DESC;FMTTYPE=text/html:Movie Night\, Movie Night\, yes it&#39\;s movie night featuring: Disney&#39\;s new Beauty and the Beast movie! It is on Wednesday\, April 24th at The Country Inn and Suites by Radisson in Winterville\, NC.<br />\n<br />\nThere will be two showings:<br />\n1 pm to 3 pm and 3 pm to 5 pm<br />\n<br />\nAges 6 through 10<br />\n<br />\n<em>Note: Please note that children are not able to be dropped off. Parents must be responsible for all children for the entire time of event. Snacks will be provided if your child has allergies\, feel free to provide their snack. Country Inn and Suites are not in any form responsible for your child. Please arrive 15 minutes early to register your child.<br />\n<br />\nFor more information\, please contact:<br />\nMelissa Clark\, General Manager<br />\n(252) 355-0070</em>
LOCATION:Country Inn and Suites by Radisson 3900 S Memorial Dr. Winterville\, NC 28590
UID:e.840.10049
SEQUENCE:3
DTSTAMP:20260420T185834Z
URL:https://business.greenvillenc.org/events/details/movie-night-10049
END:VEVENT

END:VCALENDAR
