BEGIN:VCALENDAR
VERSION:2.0
PRODID:-//ChamberMaster//Event Calendar 2.0//EN
METHOD:PUBLISH
X-PUBLISHED-TTL:P3D
REFRESH-INTERVAL:P3D
CALSCALE:GREGORIAN
BEGIN:VEVENT
DTSTART:20170107T170000Z
DTEND:20170107T190000Z
X-MICROSOFT-CDO-ALLDAYEVENT:FALSE
SUMMARY:Monthly Planetarium Show
DESCRIPTION:The Li Planetarium Monthly Planetarium Shows 12:00pm -- Two Small Pieces of Glass Follow two students and their astronomer instructor as they learn how telescopes work\, the history of telescopes\, and major discoveries made with these instruments. This show is a delight for all ages. 1:00 pm -- From the Earth to the Universe The night sky\, both beautiful and mysterious\, has been the subject of ancient myths\, campfire stories\, and awe as long as people have looked to the stars. Join us for a journey of celestial discovery\, from the theories of the ancient Greek astronomers to today's grandest telescopes. 1pm- From the Earth to the Universe
X-ALT-DESC;FMTTYPE=text/html:The Li Planetarium Monthly Planetarium Shows 12:00pm -- Two Small Pieces of Glass Follow two students and their astronomer instructor as they learn how telescopes work\, the history of telescopes\, and major discoveries made with these instruments. This show is a delight for all ages. 1:00 pm -- From the Earth to the Universe The night sky\, both beautiful and mysterious\, has been the subject of ancient myths\, campfire stories\, and awe as long as people have looked to the stars. Join us for a journey of celestial discovery\, from the theories of the ancient Greek astronomers to today&#39\;s grandest telescopes. 1pm- From the Earth to the Universe
LOCATION:A Time for Science Nature and Science Learning Center 949 Contentnea Lane Grifton\, NC 28530
UID:e.840.7776
SEQUENCE:3
DTSTAMP:20260423T211017Z
URL:https://business.greenvillenc.org/events/details/monthly-planetarium-show-7776
END:VEVENT

END:VCALENDAR
